OziExplorer Map Data File Version 2.2
h39-19
h39-19.jpg
1 ,Map Code,
Pulkovo 1942 (1),WGS 84, 0.0000, 0.0000,WGS 84
Reserved 1
Reserved 2
Magnetic Variation,,,E
Map Projection,Transverse Mercator,PolyCal,No,AutoCalOnly,No,BSBUseWPX,No
Point01,xy, 134, 74,in, deg, 30, 0.0000,N, 48, 0.0000,E, grid, , , ,N
Point02,xy, 2983, 124,in, deg, 30, 0.0000,N, 49, 0.0000,E, grid, , , ,N
Point03,xy, 2962, 2323,in, deg, 29, 20.0000,N, 49, 0.0000,E, grid, , , ,N
Point04,xy, 94, 2282,in, deg, 29, 20.0000,N, 48, 0.0000,E, grid, , , ,N
Point05,xy, 1543, 1206,in, deg, 29, 40.0000,N, 48, 30.0000,E, grid, , , ,N
Point06,xy, 1558, 100,in, deg, 30, 0.0000,N, 48, 30.0000,E, grid, , , ,N
Point07,xy, 113, 1180,in, deg, 29, 40.0000,N, 48, 0.0000,E, grid, , , ,N
Point08,xy, 2971, 1225,in, deg, 29, 40.0000,N, 49, 0.0000,E, grid, , , ,N
Point09,xy, 1529, 2304,in, deg, 29, 20.0000,N, 48, 30.0000,E, grid, , , ,N
Point10,xy, , ,in, deg, , ,N, , ,W, grid, , , ,N
Point11,xy, , ,in, deg, , ,N, , ,W, grid, , , ,N
Point12,xy, , ,in, deg, , ,N, , ,W, grid, , , ,N
Point13,xy, , ,in, deg, , ,N, , ,W, grid, , , ,N
Point14,xy, , ,in, deg, , ,N, , ,W, grid, , , ,N
Point15,xy, , ,in, deg, , ,N, , ,W, grid, , , ,N
Point16,xy, , ,in, deg, , ,N, , ,W, grid, , , ,N
Point17,xy, , ,in, deg, , ,N, , ,W, grid, , , ,N
Point18,xy, , ,in, deg, , ,N, , ,W, grid, , , ,N
Point19,xy, , ,in, deg, , ,N, , ,W, grid, , , ,N
Point20,xy, , ,in, deg, , ,N, , ,W, grid, , , ,N
Point21,xy, , ,in, deg, , ,N, , ,W, grid, , , ,N
Point22,xy, , ,in, deg, , ,N, , ,W, grid, , , ,N
Point23,xy, , ,in, deg, , ,N, , ,W, grid, , , ,N
Point24,xy, , ,in, deg, , ,N, , ,W, grid, , , ,N
Point25,xy, , ,in, deg, , ,N, , ,W, grid, , , ,N
Point26,xy, , ,in, deg, , ,N, , ,W, grid, , , ,N
Point27,xy, , ,in, deg, , ,N, , ,W, grid, , , ,N
Point28,xy, , ,in, deg, , ,N, , ,W, grid, , , ,N
Point29,xy, , ,in, deg, , ,N, , ,W, grid, , , ,N
Point30,xy, , ,in, deg, , ,N, , ,W, grid, , , ,N
Projection Setup, 0.000000000, 51.000000000, 1.000000000, 9500000.00, 0.00,,,,,
Map Feature = MF ; Map Comment = MC These follow if they exist
Track File = TF These follow if they exist
Moving Map Parameters = MM? These follow if they exist
MM0,Yes
MMPNUM,4
MMPXY,1,132,72
MMPXY,2,2985,122
MMPXY,3,2963,2324
MMPXY,4,93,2283
MMPLL,1, 47.999429, 30.001262
MMPLL,2, 49.000905, 30.000014
MMPLL,3, 49.000391, 29.333703
MMPLL,4, 47.999632, 29.332532
MM1B,33.875972
Other Grid Setup
GRGRID,Yes,4 Km,No,16711680,255,4 Km,0,16777215,8,0,Yes,Yes,No,x
MOP,Map Open Position,0,0
IWH,Map Image Width/Height,3150,2553
