OziExplorer Map Data File Version 2.2
h38-29
h38-29.jpg
1 ,Map Code,
Pulkovo 1942 (1),WGS 84, 0.0000, 0.0000,WGS 84
Reserved 1
Reserved 2
Magnetic Variation,,,E
Map Projection,Transverse Mercator,PolyCal,No,AutoCalOnly,No,BSBUseWPX,No
Point01,xy, 164, 96,in, deg, 29, 20.0000,N, 46, 0.0000,E, grid, , , ,N
Point02,xy, 3034, 96,in, deg, 29, 20.0000,N, 47, 0.0000,E, grid, , , ,N
Point03,xy, 3047, 2275,in, deg, 28, 40.0000,N, 47, 0.0000,E, grid, , , ,N
Point04,xy, 159, 2285,in, deg, 28, 40.0000,N, 46, 0.0000,E, grid, , , ,N
Point05,xy, 1600, 1192,in, deg, 29, 0.0000,N, 46, 30.0000,E, grid, , , ,N
Point06,xy, 1599, 97,in, deg, 29, 20.0000,N, 46, 30.0000,E, grid, , , ,N
Point07,xy, 161, 1191,in, deg, 29, 0.0000,N, 46, 0.0000,E, grid, , , ,N
Point08,xy, 3039, 1187,in, deg, 29, 0.0000,N, 47, 0.0000,E, grid, , , ,N
Point09,xy, 1604, 2283,in, deg, 28, 40.0000,N, 46, 30.0000,E, grid, , , ,N
Point10,xy, , ,in, deg, , ,N, , ,W, grid, , , ,N
Point11,xy, , ,in, deg, , ,N, , ,W, grid, , , ,N
Point12,xy, , ,in, deg, , ,N, , ,W, grid, , , ,N
Point13,xy, , ,in, deg, , ,N, , ,W, grid, , , ,N
Point14,xy, , ,in, deg, , ,N, , ,W, grid, , , ,N
Point15,xy, , ,in, deg, , ,N, , ,W, grid, , , ,N
Point16,xy, , ,in, deg, , ,N, , ,W, grid, , , ,N
Point17,xy, , ,in, deg, , ,N, , ,W, grid, , , ,N
Point18,xy, , ,in, deg, , ,N, , ,W, grid, , , ,N
Point19,xy, , ,in, deg, , ,N, , ,W, grid, , , ,N
Point20,xy, , ,in, deg, , ,N, , ,W, grid, , , ,N
Point21,xy, , ,in, deg, , ,N, , ,W, grid, , , ,N
Point22,xy, , ,in, deg, , ,N, , ,W, grid, , , ,N
Point23,xy, , ,in, deg, , ,N, , ,W, grid, , , ,N
Point24,xy, , ,in, deg, , ,N, , ,W, grid, , , ,N
Point25,xy, , ,in, deg, , ,N, , ,W, grid, , , ,N
Point26,xy, , ,in, deg, , ,N, , ,W, grid, , , ,N
Point27,xy, , ,in, deg, , ,N, , ,W, grid, , , ,N
Point28,xy, , ,in, deg, , ,N, , ,W, grid, , , ,N
Point29,xy, , ,in, deg, , ,N, , ,W, grid, , , ,N
Point30,xy, , ,in, deg, , ,N, , ,W, grid, , , ,N
Projection Setup, 0.000000000, 45.000000000, 1.000000000, 8500000.00, 0.00,,,,,
Map Feature = MF ; Map Comment = MC These follow if they exist
Track File = TF These follow if they exist
Moving Map Parameters = MM? These follow if they exist
MM0,Yes
MMPNUM,4
MMPXY,1,163,95
MMPXY,2,3035,95
MMPXY,3,3049,2276
MMPXY,4,158,2286
MMPLL,1, 45.999676, 29.334330
MMPLL,2, 47.000578, 29.332788
MMPLL,3, 47.000729, 28.667356
MMPLL,4, 45.999651, 28.665622
MM1B,33.842288
Other Grid Setup
GRGRID,Yes,4 Km,No,16711680,255,4 Km,0,16777215,8,0,Yes,Yes,No,x
MOP,Map Open Position,0,0
IWH,Map Image Width/Height,3150,2484
