OziExplorer Map Data File Version 2.2
h37-06
h37-06.jpg
1 ,Map Code,
Pulkovo 1942 (1),WGS 84, 0.0000, 0.0000,WGS 84
Reserved 1
Reserved 2
Magnetic Variation,,,E
Map Projection,Transverse Mercator,PolyCal,No,AutoCalOnly,No,BSBUseWPX,No
Point01,xy, 153, 96,in, deg, 32, 0.0000,N, 41, 0.0000,E, grid, , , ,N
Point02,xy, 2945, 95,in, deg, 32, 0.0000,N, 42, 0.0000,E, grid, , , ,N
Point03,xy, 2956, 2283,in, deg, 31, 20.0000,N, 42, 0.0000,E, grid, , , ,N
Point04,xy, 147, 2283,in, deg, 31, 20.0000,N, 41, 0.0000,E, grid, , , ,N
Point05,xy, 1551, 1185,in, deg, 31, 40.0000,N, 41, 30.0000,E, grid, , , ,N
Point06,xy, 1549, 96,in, deg, 32, 0.0000,N, 41, 30.0000,E, grid, , , ,N
Point07,xy, 149, 1184,in, deg, 31, 40.0000,N, 41, 0.0000,E, grid, , , ,N
Point08,xy, 2950, 1183,in, deg, 31, 40.0000,N, 42, 0.0000,E, grid, , , ,N
Point09,xy, 1552, 2287,in, deg, 31, 20.0000,N, 41, 30.0000,E, grid, , , ,N
Point10,xy, , ,in, deg, , ,N, , ,W, grid, , , ,N
Point11,xy, , ,in, deg, , ,N, , ,W, grid, , , ,N
Point12,xy, , ,in, deg, , ,N, , ,W, grid, , , ,N
Point13,xy, , ,in, deg, , ,N, , ,W, grid, , , ,N
Point14,xy, , ,in, deg, , ,N, , ,W, grid, , , ,N
Point15,xy, , ,in, deg, , ,N, , ,W, grid, , , ,N
Point16,xy, , ,in, deg, , ,N, , ,W, grid, , , ,N
Point17,xy, , ,in, deg, , ,N, , ,W, grid, , , ,N
Point18,xy, , ,in, deg, , ,N, , ,W, grid, , , ,N
Point19,xy, , ,in, deg, , ,N, , ,W, grid, , , ,N
Point20,xy, , ,in, deg, , ,N, , ,W, grid, , , ,N
Point21,xy, , ,in, deg, , ,N, , ,W, grid, , , ,N
Point22,xy, , ,in, deg, , ,N, , ,W, grid, , , ,N
Point23,xy, , ,in, deg, , ,N, , ,W, grid, , , ,N
Point24,xy, , ,in, deg, , ,N, , ,W, grid, , , ,N
Point25,xy, , ,in, deg, , ,N, , ,W, grid, , , ,N
Point26,xy, , ,in, deg, , ,N, , ,W, grid, , , ,N
Point27,xy, , ,in, deg, , ,N, , ,W, grid, , , ,N
Point28,xy, , ,in, deg, , ,N, , ,W, grid, , , ,N
Point29,xy, , ,in, deg, , ,N, , ,W, grid, , , ,N
Point30,xy, , ,in, deg, , ,N, , ,W, grid, , , ,N
Projection Setup, 0.000000000, 39.000000000, 1.000000000, 7500000.00, 0.00,,,,,
Map Feature = MF ; Map Comment = MC These follow if they exist
Track File = TF These follow if they exist
Moving Map Parameters = MM? These follow if they exist
MM0,Yes
MMPNUM,4
MMPXY,1,151,95
MMPXY,2,2947,93
MMPXY,3,2958,2284
MMPXY,4,145,2285
MMPLL,1, 40.999072, 31.999453
MMPLL,2, 42.000991, 31.999674
MMPLL,3, 42.000381, 31.332487
MMPLL,4, 40.999560, 31.332200
MM1B,33.862634
Other Grid Setup
GRGRID,Yes,4 Km,No,16711680,255,4 Km,0,16777215,8,0,Yes,Yes,No,x
MOP,Map Open Position,0,0
IWH,Map Image Width/Height,3038,2508
