OziExplorer Map Data File Version 2.2
h35-36
h35-36.jpg
1 ,Map Code,
Pulkovo 1942 (1),WGS 84, 0.0000, 0.0000,WGS 84
Reserved 1
Reserved 2
Magnetic Variation,,,E
Map Projection,Transverse Mercator,PolyCal,No,AutoCalOnly,No,BSBUseWPX,No
Point01,xy, 305, 252,in, deg, 28, 40.0000,N, 29, 0.0000,E, grid, , , ,N
Point02,xy, 4142, 257,in, deg, 28, 40.0000,N, 30, 0.0000,E, grid, , , ,N
Point03,xy, 4131, 3215,in, deg, 28, 0.0000,N, 30, 0.0000,E, grid, , , ,N
Point04,xy, 270, 3154,in, deg, 28, 0.0000,N, 29, 0.0000,E, grid, , , ,N
Point05,xy, 2217, 1722,in, deg, 28, 20.0000,N, 29, 30.0000,E, grid, , , ,N
Point06,xy, 2224, 258,in, deg, 28, 40.0000,N, 29, 30.0000,E, grid, , , ,N
Point07,xy, 292, 1704,in, deg, 28, 20.0000,N, 29, 0.0000,E, grid, , , ,N
Point08,xy, 4142, 1735,in, deg, 28, 20.0000,N, 30, 0.0000,E, grid, , , ,N
Point09,xy, 2200, 3187,in, deg, 28, 0.0000,N, 29, 30.0000,E, grid, , , ,N
Point10,xy, , ,in, deg, , ,N, , ,W, grid, , , ,N
Point11,xy, , ,in, deg, , ,N, , ,W, grid, , , ,N
Point12,xy, , ,in, deg, , ,N, , ,W, grid, , , ,N
Point13,xy, , ,in, deg, , ,N, , ,W, grid, , , ,N
Point14,xy, , ,in, deg, , ,N, , ,W, grid, , , ,N
Point15,xy, , ,in, deg, , ,N, , ,W, grid, , , ,N
Point16,xy, , ,in, deg, , ,N, , ,W, grid, , , ,N
Point17,xy, , ,in, deg, , ,N, , ,W, grid, , , ,N
Point18,xy, , ,in, deg, , ,N, , ,W, grid, , , ,N
Point19,xy, , ,in, deg, , ,N, , ,W, grid, , , ,N
Point20,xy, , ,in, deg, , ,N, , ,W, grid, , , ,N
Point21,xy, , ,in, deg, , ,N, , ,W, grid, , , ,N
Point22,xy, , ,in, deg, , ,N, , ,W, grid, , , ,N
Point23,xy, , ,in, deg, , ,N, , ,W, grid, , , ,N
Point24,xy, , ,in, deg, , ,N, , ,W, grid, , , ,N
Point25,xy, , ,in, deg, , ,N, , ,W, grid, , , ,N
Point26,xy, , ,in, deg, , ,N, , ,W, grid, , , ,N
Point27,xy, , ,in, deg, , ,N, , ,W, grid, , , ,N
Point28,xy, , ,in, deg, , ,N, , ,W, grid, , , ,N
Point29,xy, , ,in, deg, , ,N, , ,W, grid, , , ,N
Point30,xy, , ,in, deg, , ,N, , ,W, grid, , , ,N
Projection Setup, 0.000000000, 27.000000000, 1.000000000, 5500000.00, 0.00,,,,,
Map Feature = MF ; Map Comment = MC These follow if they exist
Track File = TF These follow if they exist
Moving Map Parameters = MM? These follow if they exist
MM0,Yes
MMPNUM,4
MMPXY,1,304,250
MMPXY,2,4145,257
MMPXY,3,4132,3216
MMPXY,4,270,3155
MMPLL,1, 28.999321, 28.664050
MMPLL,2, 30.000241, 28.669614
MMPLL,3, 29.999830, 27.996500
MMPLL,4, 28.999602, 28.002785
MM1B,25.471341
Other Grid Setup
GRGRID,Yes,4 Km,No,16711680,255,4 Km,0,16777215,8,0,Yes,Yes,No,x
MOP,Map Open Position,0,0
IWH,Map Image Width/Height,4352,3500
