OziExplorer Map Data File Version 2.2
h34-34
h34-34.jpg
1 ,Map Code,
Pulkovo 1942 (1),WGS 84, 0.0000, 0.0000,WGS 84
Reserved 1
Reserved 2
Magnetic Variation,,,E
Map Projection,Transverse Mercator,PolyCal,No,AutoCalOnly,No,BSBUseWPX,No
Point01,xy, 298, 197,in, deg, 28, 40.0000,N, 21, 0.0000,E, grid, , , ,N
Point02,xy, 4130, 207,in, deg, 28, 40.0000,N, 22, 0.0000,E, grid, , , ,N
Point03,xy, 4134, 3145,in, deg, 28, 0.0000,N, 22, 0.0000,E, grid, , , ,N
Point04,xy, 276, 3130,in, deg, 28, 0.0000,N, 21, 0.0000,E, grid, , , ,N
Point05,xy, 2209, 1673,in, deg, 28, 20.0000,N, 21, 30.0000,E, grid, , , ,N
Point06,xy, 2216, 204,in, deg, 28, 40.0000,N, 21, 30.0000,E, grid, , , ,N
Point07,xy, 287, 1659,in, deg, 28, 20.0000,N, 21, 0.0000,E, grid, , , ,N
Point08,xy, 4131, 1677,in, deg, 28, 20.0000,N, 22, 0.0000,E, grid, , , ,N
Point09,xy, 2205, 3143,in, deg, 28, 0.0000,N, 21, 30.0000,E, grid, , , ,N
Point10,xy, , ,in, deg, , ,N, , ,W, grid, , , ,N
Point11,xy, , ,in, deg, , ,N, , ,W, grid, , , ,N
Point12,xy, , ,in, deg, , ,N, , ,W, grid, , , ,N
Point13,xy, , ,in, deg, , ,N, , ,W, grid, , , ,N
Point14,xy, , ,in, deg, , ,N, , ,W, grid, , , ,N
Point15,xy, , ,in, deg, , ,N, , ,W, grid, , , ,N
Point16,xy, , ,in, deg, , ,N, , ,W, grid, , , ,N
Point17,xy, , ,in, deg, , ,N, , ,W, grid, , , ,N
Point18,xy, , ,in, deg, , ,N, , ,W, grid, , , ,N
Point19,xy, , ,in, deg, , ,N, , ,W, grid, , , ,N
Point20,xy, , ,in, deg, , ,N, , ,W, grid, , , ,N
Point21,xy, , ,in, deg, , ,N, , ,W, grid, , , ,N
Point22,xy, , ,in, deg, , ,N, , ,W, grid, , , ,N
Point23,xy, , ,in, deg, , ,N, , ,W, grid, , , ,N
Point24,xy, , ,in, deg, , ,N, , ,W, grid, , , ,N
Point25,xy, , ,in, deg, , ,N, , ,W, grid, , , ,N
Point26,xy, , ,in, deg, , ,N, , ,W, grid, , , ,N
Point27,xy, , ,in, deg, , ,N, , ,W, grid, , , ,N
Point28,xy, , ,in, deg, , ,N, , ,W, grid, , , ,N
Point29,xy, , ,in, deg, , ,N, , ,W, grid, , , ,N
Point30,xy, , ,in, deg, , ,N, , ,W, grid, , , ,N
Projection Setup, 0.000000000, 21.000000000, 1.000000000, 4500000.00, 0.00,,,,,
Map Feature = MF ; Map Comment = MC These follow if they exist
Track File = TF These follow if they exist
Moving Map Parameters = MM? These follow if they exist
MM0,Yes
MMPNUM,4
MMPXY,1,297,195
MMPXY,2,4131,206
MMPXY,3,4135,3146
MMPXY,4,275,3131
MMPLL,1, 20.999721, 28.666391
MMPLL,2, 22.000072, 28.667101
MMPLL,3, 22.000503, 27.999732
MMPLL,4, 20.999635, 27.999830
MM1B,25.494760
Other Grid Setup
GRGRID,Yes,4 Km,No,16711680,255,4 Km,0,16777215,8,0,Yes,Yes,No,x
MOP,Map Open Position,0,0
IWH,Map Image Width/Height,4352,3639
