OziExplorer Map Data File Version 2.2
h34-15
h34-15.jpg
1 ,Map Code,
Pulkovo 1942 (1),WGS 84, 0.0000, 0.0000,WGS 84
Reserved 1
Reserved 2
Magnetic Variation,,,E
Map Projection,Transverse Mercator,PolyCal,No,AutoCalOnly,No,BSBUseWPX,No
Point01,xy, 401, 172,in, deg, 30, 40.0000,N, 20, 0.0000,E, grid, , , ,N
Point02,xy, 4161, 199,in, deg, 30, 40.0000,N, 21, 0.0000,E, grid, , , ,N
Point03,xy, 4139, 3144,in, deg, 30, 0.0000,N, 21, 0.0000,E, grid, , , ,N
Point04,xy, 355, 3078,in, deg, 30, 0.0000,N, 20, 0.0000,E, grid, , , ,N
Point05,xy, 2267, 1653,in, deg, 30, 20.0000,N, 20, 30.0000,E, grid, , , ,N
Point06,xy, 2281, 189,in, deg, 30, 40.0000,N, 20, 30.0000,E, grid, , , ,N
Point07,xy, 381, 1628,in, deg, 30, 20.0000,N, 20, 0.0000,E, grid, , , ,N
Point08,xy, 4153, 1670,in, deg, 30, 20.0000,N, 21, 0.0000,E, grid, , , ,N
Point09,xy, 2247, 3114,in, deg, 30, 0.0000,N, 20, 30.0000,E, grid, , , ,N
Point10,xy, , ,in, deg, , ,N, , ,W, grid, , , ,N
Point11,xy, , ,in, deg, , ,N, , ,W, grid, , , ,N
Point12,xy, , ,in, deg, , ,N, , ,W, grid, , , ,N
Point13,xy, , ,in, deg, , ,N, , ,W, grid, , , ,N
Point14,xy, , ,in, deg, , ,N, , ,W, grid, , , ,N
Point15,xy, , ,in, deg, , ,N, , ,W, grid, , , ,N
Point16,xy, , ,in, deg, , ,N, , ,W, grid, , , ,N
Point17,xy, , ,in, deg, , ,N, , ,W, grid, , , ,N
Point18,xy, , ,in, deg, , ,N, , ,W, grid, , , ,N
Point19,xy, , ,in, deg, , ,N, , ,W, grid, , , ,N
Point20,xy, , ,in, deg, , ,N, , ,W, grid, , , ,N
Point21,xy, , ,in, deg, , ,N, , ,W, grid, , , ,N
Point22,xy, , ,in, deg, , ,N, , ,W, grid, , , ,N
Point23,xy, , ,in, deg, , ,N, , ,W, grid, , , ,N
Point24,xy, , ,in, deg, , ,N, , ,W, grid, , , ,N
Point25,xy, , ,in, deg, , ,N, , ,W, grid, , , ,N
Point26,xy, , ,in, deg, , ,N, , ,W, grid, , , ,N
Point27,xy, , ,in, deg, , ,N, , ,W, grid, , , ,N
Point28,xy, , ,in, deg, , ,N, , ,W, grid, , , ,N
Point29,xy, , ,in, deg, , ,N, , ,W, grid, , , ,N
Point30,xy, , ,in, deg, , ,N, , ,W, grid, , , ,N
Projection Setup, 0.000000000, 21.000000000, 1.000000000, 4500000.00, 0.00,,,,,
Map Feature = MF ; Map Comment = MC These follow if they exist
Track File = TF These follow if they exist
Moving Map Parameters = MM? These follow if they exist
MM0,Yes
MMPNUM,4
MMPXY,1,399,171
MMPXY,2,4162,198
MMPXY,3,4141,3146
MMPXY,4,355,3079
MMPLL,1, 19.999127, 30.664843
MMPLL,2, 21.000085, 30.668971
MMPLL,3, 21.000186, 29.997140
MMPLL,4, 19.999794, 30.002143
MM1B,25.482075
Other Grid Setup
GRGRID,Yes,4 Km,No,16711680,255,4 Km,0,16777215,8,0,Yes,Yes,No,x
MOP,Map Open Position,0,0
IWH,Map Image Width/Height,4352,3481
