OziExplorer Map Data File Version 2.2
h32-34
h32-34.jpg
1 ,Map Code,
Pulkovo 1942 (1),WGS 84, 0.0000, 0.0000,WGS 84
Reserved 1
Reserved 2
Magnetic Variation,,,E
Map Projection,Transverse Mercator,PolyCal,No,AutoCalOnly,No,BSBUseWPX,No
Point01,xy, 317, 160,in, deg, 28, 40.0000,N, 9, 0.0000,E, grid, , , ,N
Point02,xy, 4152, 174,in, deg, 28, 40.0000,N, 10, 0.0000,E, grid, , , ,N
Point03,xy, 4144, 3118,in, deg, 28, 0.0000,N, 10, 0.0000,E, grid, , , ,N
Point04,xy, 285, 3078,in, deg, 28, 0.0000,N, 9, 0.0000,E, grid, , , ,N
Point05,xy, 2225, 1632,in, deg, 28, 20.0000,N, 9, 30.0000,E, grid, , , ,N
Point06,xy, 2236, 171,in, deg, 28, 40.0000,N, 9, 30.0000,E, grid, , , ,N
Point07,xy, 302, 1618,in, deg, 28, 20.0000,N, 9, 0.0000,E, grid, , , ,N
Point08,xy, 4148, 1646,in, deg, 28, 20.0000,N, 10, 0.0000,E, grid, , , ,N
Point09,xy, 2214, 3102,in, deg, 28, 0.0000,N, 9, 30.0000,E, grid, , , ,N
Point10,xy, , ,in, deg, , ,N, , ,W, grid, , , ,N
Point11,xy, , ,in, deg, , ,N, , ,W, grid, , , ,N
Point12,xy, , ,in, deg, , ,N, , ,W, grid, , , ,N
Point13,xy, , ,in, deg, , ,N, , ,W, grid, , , ,N
Point14,xy, , ,in, deg, , ,N, , ,W, grid, , , ,N
Point15,xy, , ,in, deg, , ,N, , ,W, grid, , , ,N
Point16,xy, , ,in, deg, , ,N, , ,W, grid, , , ,N
Point17,xy, , ,in, deg, , ,N, , ,W, grid, , , ,N
Point18,xy, , ,in, deg, , ,N, , ,W, grid, , , ,N
Point19,xy, , ,in, deg, , ,N, , ,W, grid, , , ,N
Point20,xy, , ,in, deg, , ,N, , ,W, grid, , , ,N
Point21,xy, , ,in, deg, , ,N, , ,W, grid, , , ,N
Point22,xy, , ,in, deg, , ,N, , ,W, grid, , , ,N
Point23,xy, , ,in, deg, , ,N, , ,W, grid, , , ,N
Point24,xy, , ,in, deg, , ,N, , ,W, grid, , , ,N
Point25,xy, , ,in, deg, , ,N, , ,W, grid, , , ,N
Point26,xy, , ,in, deg, , ,N, , ,W, grid, , , ,N
Point27,xy, , ,in, deg, , ,N, , ,W, grid, , , ,N
Point28,xy, , ,in, deg, , ,N, , ,W, grid, , , ,N
Point29,xy, , ,in, deg, , ,N, , ,W, grid, , , ,N
Point30,xy, , ,in, deg, , ,N, , ,W, grid, , , ,N
Projection Setup, 0.000000000, 9.000000000, 1.000000000, 2500000.00, 0.00,,,,,
Map Feature = MF ; Map Comment = MC These follow if they exist
Track File = TF These follow if they exist
Moving Map Parameters = MM? These follow if they exist
MM0,Yes
MMPNUM,4
MMPXY,1,316,159
MMPXY,2,4152,175
MMPXY,3,4144,3118
MMPXY,4,286,3079
MMPLL,1, 8.999547, 28.665254
MMPLL,2, 9.999879, 28.667783
MMPLL,3, 10.000060, 27.998451
MMPLL,4, 9.000210, 28.001041
MM1B,25.480199
Other Grid Setup
GRGRID,Yes,4 Km,No,16711680,255,4 Km,0,16777215,8,0,Yes,Yes,No,x
MOP,Map Open Position,0,0
IWH,Map Image Width/Height,4352,3532
