OziExplorer Map Data File Version 2.2
h31-35
h31-35.jpg
1 ,Map Code,
Pulkovo 1942 (1),WGS 84, 0.0000, 0.0000,WGS 84
Reserved 1
Reserved 2
Magnetic Variation,,,E
Map Projection,Transverse Mercator,PolyCal,No,AutoCalOnly,No,BSBUseWPX,No
Point01,xy, 234, 166,in, deg, 28, 40.0000,N, 4, 0.0000,E, grid, , , ,N
Point02,xy, 4069, 175,in, deg, 28, 40.0000,N, 5, 0.0000,E, grid, , , ,N
Point03,xy, 4052, 3127,in, deg, 28, 0.0000,N, 5, 0.0000,E, grid, , , ,N
Point04,xy, 196, 3051,in, deg, 28, 0.0000,N, 4, 0.0000,E, grid, , , ,N
Point05,xy, 2145, 1635,in, deg, 28, 20.0000,N, 4, 30.0000,E, grid, , , ,N
Point06,xy, 2152, 175,in, deg, 28, 40.0000,N, 4, 30.0000,E, grid, , , ,N
Point07,xy, 222, 1612,in, deg, 28, 20.0000,N, 4, 0.0000,E, grid, , , ,N
Point08,xy, 4067, 1652,in, deg, 28, 20.0000,N, 5, 0.0000,E, grid, , , ,N
Point09,xy, 2125, 3092,in, deg, 28, 0.0000,N, 4, 30.0000,E, grid, , , ,N
Point10,xy, , ,in, deg, , ,N, , ,W, grid, , , ,N
Point11,xy, , ,in, deg, , ,N, , ,W, grid, , , ,N
Point12,xy, , ,in, deg, , ,N, , ,W, grid, , , ,N
Point13,xy, , ,in, deg, , ,N, , ,W, grid, , , ,N
Point14,xy, , ,in, deg, , ,N, , ,W, grid, , , ,N
Point15,xy, , ,in, deg, , ,N, , ,W, grid, , , ,N
Point16,xy, , ,in, deg, , ,N, , ,W, grid, , , ,N
Point17,xy, , ,in, deg, , ,N, , ,W, grid, , , ,N
Point18,xy, , ,in, deg, , ,N, , ,W, grid, , , ,N
Point19,xy, , ,in, deg, , ,N, , ,W, grid, , , ,N
Point20,xy, , ,in, deg, , ,N, , ,W, grid, , , ,N
Point21,xy, , ,in, deg, , ,N, , ,W, grid, , , ,N
Point22,xy, , ,in, deg, , ,N, , ,W, grid, , , ,N
Point23,xy, , ,in, deg, , ,N, , ,W, grid, , , ,N
Point24,xy, , ,in, deg, , ,N, , ,W, grid, , , ,N
Point25,xy, , ,in, deg, , ,N, , ,W, grid, , , ,N
Point26,xy, , ,in, deg, , ,N, , ,W, grid, , , ,N
Point27,xy, , ,in, deg, , ,N, , ,W, grid, , , ,N
Point28,xy, , ,in, deg, , ,N, , ,W, grid, , , ,N
Point29,xy, , ,in, deg, , ,N, , ,W, grid, , , ,N
Point30,xy, , ,in, deg, , ,N, , ,W, grid, , , ,N
Projection Setup, 0.000000000, 3.000000000, 1.000000000, 1500000.00, 0.00,,,,,
Map Feature = MF ; Map Comment = MC These follow if they exist
Track File = TF These follow if they exist
Moving Map Parameters = MM? These follow if they exist
MM0,Yes
MMPNUM,4
MMPXY,1,232,165
MMPXY,2,4070,174
MMPXY,3,4053,3128
MMPXY,4,195,3052
MMPLL,1, 3.998675, 28.663396
MMPLL,2, 4.999826, 28.670743
MMPLL,3, 4.999442, 27.996004
MMPLL,4, 3.999181, 28.003677
MM1B,25.489367
Other Grid Setup
GRGRID,Yes,4 Km,No,16711680,255,4 Km,0,16777215,8,0,Yes,Yes,No,x
MOP,Map Open Position,0,0
IWH,Map Image Width/Height,4352,3542
