OziExplorer Map Data File Version 2.2
h30-36
h30-36.jpg
1 ,Map Code,
Pulkovo 1942 (1),WGS 84, 0.0000, 0.0000,WGS 84
Reserved 1
Reserved 2
Magnetic Variation,,,E
Map Projection,Transverse Mercator,PolyCal,No,AutoCalOnly,No,BSBUseWPX,No
Point01,xy, 283, 199,in, deg, 28, 40.0000,N, 1, 0.0000,W, grid, , , ,N
Point02,xy, 4117, 190,in, deg, 28, 40.0000,N, 0, 0.0000,E, grid, , , ,N
Point03,xy, 4125, 3150,in, deg, 28, 0.0000,N, 0, 0.0000,E, grid, , , ,N
Point04,xy, 265, 3121,in, deg, 28, 0.0000,N, 1, 0.0000,W, grid, , , ,N
Point05,xy, 2202, 1672,in, deg, 28, 20.0000,N, 0, 30.0000,W, grid, , , ,N
Point06,xy, 2200, 197,in, deg, 28, 40.0000,N, 0, 30.0000,W, grid, , , ,N
Point07,xy, 278, 1665,in, deg, 28, 20.0000,N, 1, 0.0000,W, grid, , , ,N
Point08,xy, 4124, 1670,in, deg, 28, 20.0000,N, 0, 0.0000,E, grid, , , ,N
Point09,xy, 2195, 3141,in, deg, 28, 0.0000,N, 0, 30.0000,W, grid, , , ,N
Point10,xy, , ,in, deg, , ,N, , ,W, grid, , , ,N
Point11,xy, , ,in, deg, , ,N, , ,W, grid, , , ,N
Point12,xy, , ,in, deg, , ,N, , ,W, grid, , , ,N
Point13,xy, , ,in, deg, , ,N, , ,W, grid, , , ,N
Point14,xy, , ,in, deg, , ,N, , ,W, grid, , , ,N
Point15,xy, , ,in, deg, , ,N, , ,W, grid, , , ,N
Point16,xy, , ,in, deg, , ,N, , ,W, grid, , , ,N
Point17,xy, , ,in, deg, , ,N, , ,W, grid, , , ,N
Point18,xy, , ,in, deg, , ,N, , ,W, grid, , , ,N
Point19,xy, , ,in, deg, , ,N, , ,W, grid, , , ,N
Point20,xy, , ,in, deg, , ,N, , ,W, grid, , , ,N
Point21,xy, , ,in, deg, , ,N, , ,W, grid, , , ,N
Point22,xy, , ,in, deg, , ,N, , ,W, grid, , , ,N
Point23,xy, , ,in, deg, , ,N, , ,W, grid, , , ,N
Point24,xy, , ,in, deg, , ,N, , ,W, grid, , , ,N
Point25,xy, , ,in, deg, , ,N, , ,W, grid, , , ,N
Point26,xy, , ,in, deg, , ,N, , ,W, grid, , , ,N
Point27,xy, , ,in, deg, , ,N, , ,W, grid, , , ,N
Point28,xy, , ,in, deg, , ,N, , ,W, grid, , , ,N
Point29,xy, , ,in, deg, , ,N, , ,W, grid, , , ,N
Point30,xy, , ,in, deg, , ,N, , ,W, grid, , , ,N
Projection Setup, 0.000000000, -3.000000000, 1.000000000, 60500000.00, 0.00,,,,,
Map Feature = MF ; Map Comment = MC These follow if they exist
Track File = TF These follow if they exist
Moving Map Parameters = MM? These follow if they exist
MM0,Yes
MMPNUM,4
MMPXY,1,283,199
MMPXY,2,4118,189
MMPXY,3,4125,3151
MMPXY,4,266,3122
MMPLL,1, -1.000251, 28.664878
MMPLL,2, -0.000158, 28.668839
MMPLL,3, -0.000175, 27.997850
MMPLL,4, -1.000272, 28.002319
MM1B,25.493868
Other Grid Setup
GRGRID,Yes,4 Km,No,16711680,255,4 Km,0,16777215,8,0,Yes,Yes,No,x
MOP,Map Open Position,0,0
IWH,Map Image Width/Height,4352,3594
