OziExplorer Map Data File Version 2.2
h29-36
h29-36.jpg
1 ,Map Code,
Pulkovo 1942 (1),WGS 84, 0.0000, 0.0000,WGS 84
Reserved 1
Reserved 2
Magnetic Variation,,,E
Map Projection,Transverse Mercator,PolyCal,No,AutoCalOnly,No,BSBUseWPX,No
Point01,xy, 362, 253,in, deg, 28, 40.0000,N, 7, 0.0000,W, grid, , , ,N
Point02,xy, 4199, 239,in, deg, 28, 40.0000,N, 6, 0.0000,W, grid, , , ,N
Point03,xy, 4216, 3179,in, deg, 28, 0.0000,N, 6, 0.0000,W, grid, , , ,N
Point04,xy, 358, 3188,in, deg, 28, 0.0000,N, 7, 0.0000,W, grid, , , ,N
Point05,xy, 2285, 1719,in, deg, 28, 20.0000,N, 6, 30.0000,W, grid, , , ,N
Point06,xy, 2282, 252,in, deg, 28, 40.0000,N, 6, 30.0000,W, grid, , , ,N
Point07,xy, 360, 1715,in, deg, 28, 20.0000,N, 7, 0.0000,W, grid, , , ,N
Point08,xy, 4207, 1713,in, deg, 28, 20.0000,N, 6, 0.0000,W, grid, , , ,N
Point09,xy, 2287, 3187,in, deg, 28, 0.0000,N, 6, 30.0000,W, grid, , , ,N
Point10,xy, , ,in, deg, , ,N, , ,W, grid, , , ,N
Point11,xy, , ,in, deg, , ,N, , ,W, grid, , , ,N
Point12,xy, , ,in, deg, , ,N, , ,W, grid, , , ,N
Point13,xy, , ,in, deg, , ,N, , ,W, grid, , , ,N
Point14,xy, , ,in, deg, , ,N, , ,W, grid, , , ,N
Point15,xy, , ,in, deg, , ,N, , ,W, grid, , , ,N
Point16,xy, , ,in, deg, , ,N, , ,W, grid, , , ,N
Point17,xy, , ,in, deg, , ,N, , ,W, grid, , , ,N
Point18,xy, , ,in, deg, , ,N, , ,W, grid, , , ,N
Point19,xy, , ,in, deg, , ,N, , ,W, grid, , , ,N
Point20,xy, , ,in, deg, , ,N, , ,W, grid, , , ,N
Point21,xy, , ,in, deg, , ,N, , ,W, grid, , , ,N
Point22,xy, , ,in, deg, , ,N, , ,W, grid, , , ,N
Point23,xy, , ,in, deg, , ,N, , ,W, grid, , , ,N
Point24,xy, , ,in, deg, , ,N, , ,W, grid, , , ,N
Point25,xy, , ,in, deg, , ,N, , ,W, grid, , , ,N
Point26,xy, , ,in, deg, , ,N, , ,W, grid, , , ,N
Point27,xy, , ,in, deg, , ,N, , ,W, grid, , , ,N
Point28,xy, , ,in, deg, , ,N, , ,W, grid, , , ,N
Point29,xy, , ,in, deg, , ,N, , ,W, grid, , , ,N
Point30,xy, , ,in, deg, , ,N, , ,W, grid, , , ,N
Projection Setup, 0.000000000, -9.000000000, 1.000000000, 59500000.00, 0.00,,,,,
Map Feature = MF ; Map Comment = MC These follow if they exist
Track File = TF These follow if they exist
Moving Map Parameters = MM? These follow if they exist
MM0,Yes
MMPNUM,4
MMPXY,1,361,252
MMPXY,2,4201,238
MMPXY,3,4217,3181
MMPXY,4,357,3190
MMPLL,1, -7.000624, 28.666438
MMPLL,2, -5.999388, 28.667530
MMPLL,3, -5.999927, 27.999626
MMPLL,4, -7.000095, 27.999282
MM1B,25.491730
Other Grid Setup
GRGRID,Yes,4 Km,No,16711680,255,4 Km,0,16777215,8,0,Yes,Yes,No,x
MOP,Map Open Position,0,0
IWH,Map Image Width/Height,4352,3531
