OziExplorer Map Data File Version 2.2
h29-15e
h29-15e.jpg
1 ,Map Code,
Pulkovo 1942 (1),WGS 84, 0.0000, 0.0000,WGS 84
Reserved 1
Reserved 2
Magnetic Variation,,,E
Map Projection,Transverse Mercator,PolyCal,No,AutoCalOnly,No,BSBUseWPX,No
Point01,xy, 313, 284,in, deg, 30, 40.0000,N, 10, 0.0000,W, grid, , , ,N
Point02,xy, 7857, 287,in, deg, 30, 40.0000,N, 9, 0.0000,W, grid, , , ,N
Point03,xy, 7879, 6101,in, deg, 30, 0.0000,N, 9, 0.0000,W, grid, , , ,N
Point04,xy, 281, 6101,in, deg, 30, 0.0000,N, 10, 0.0000,W, grid, , , ,N
Point05,xy, 4080, 3203,in, deg, 30, 20.0000,N, 9, 30.0000,W, grid, , , ,N
Point06,xy, 4083, 294,in, deg, 30, 40.0000,N, 9, 30.0000,W, grid, , , ,N
Point07,xy, 296, 3193,in, deg, 30, 20.0000,N, 10, 0.0000,W, grid, , , ,N
Point08,xy, 7866, 3195,in, deg, 30, 20.0000,N, 9, 0.0000,W, grid, , , ,N
Point09,xy, 4080, 6115,in, deg, 30, 0.0000,N, 9, 30.0000,W, grid, , , ,N
Point10,xy, , ,in, deg, , ,N, , ,W, grid, , , ,N
Point11,xy, , ,in, deg, , ,N, , ,W, grid, , , ,N
Point12,xy, , ,in, deg, , ,N, , ,W, grid, , , ,N
Point13,xy, , ,in, deg, , ,N, , ,W, grid, , , ,N
Point14,xy, , ,in, deg, , ,N, , ,W, grid, , , ,N
Point15,xy, , ,in, deg, , ,N, , ,W, grid, , , ,N
Point16,xy, , ,in, deg, , ,N, , ,W, grid, , , ,N
Point17,xy, , ,in, deg, , ,N, , ,W, grid, , , ,N
Point18,xy, , ,in, deg, , ,N, , ,W, grid, , , ,N
Point19,xy, , ,in, deg, , ,N, , ,W, grid, , , ,N
Point20,xy, , ,in, deg, , ,N, , ,W, grid, , , ,N
Point21,xy, , ,in, deg, , ,N, , ,W, grid, , , ,N
Point22,xy, , ,in, deg, , ,N, , ,W, grid, , , ,N
Point23,xy, , ,in, deg, , ,N, , ,W, grid, , , ,N
Point24,xy, , ,in, deg, , ,N, , ,W, grid, , , ,N
Point25,xy, , ,in, deg, , ,N, , ,W, grid, , , ,N
Point26,xy, , ,in, deg, , ,N, , ,W, grid, , , ,N
Point27,xy, , ,in, deg, , ,N, , ,W, grid, , , ,N
Point28,xy, , ,in, deg, , ,N, , ,W, grid, , , ,N
Point29,xy, , ,in, deg, , ,N, , ,W, grid, , , ,N
Point30,xy, , ,in, deg, , ,N, , ,W, grid, , , ,N
Projection Setup, 0.000000000, -9.000000000, 1.000000000, 59500000.00, 0.00,,,,,
Map Feature = MF ; Map Comment = MC These follow if they exist
Track File = TF These follow if they exist
Moving Map Parameters = MM? These follow if they exist
MM0,Yes
MMPNUM,4
MMPXY,1,311,283
MMPXY,2,7859,286
MMPXY,3,7881,6101
MMPXY,4,279,6102
MMPLL,1, -10.000045, 30.666840
MMPLL,2, -8.999644, 30.666723
MMPLL,3, -8.999554, 30.000291
MMPLL,4, -10.000309, 30.000023
MM1B,12.697258
Other Grid Setup
GRGRID,Yes,4 Km,No,16711680,255,4 Km,0,16777215,8,0,Yes,Yes,No,x
MOP,Map Open Position,0,0
IWH,Map Image Width/Height,8182,6935
