OziExplorer Map Data File Version 2.2
h29-15
h29-15.jpg
1 ,Map Code,
Pulkovo 1942 (1),WGS 84, 0.0000, 0.0000,WGS 84
Reserved 1
Reserved 2
Magnetic Variation,,,E
Map Projection,Transverse Mercator,PolyCal,No,AutoCalOnly,No,BSBUseWPX,No
Point01,xy, 343, 152,in, deg, 30, 40.0000,N, 10, 0.0000,W, grid, , , ,N
Point02,xy, 4101, 141,in, deg, 30, 40.0000,N, 9, 0.0000,W, grid, , , ,N
Point03,xy, 4121, 3071,in, deg, 30, 0.0000,N, 9, 0.0000,W, grid, , , ,N
Point04,xy, 335, 3081,in, deg, 30, 0.0000,N, 10, 0.0000,W, grid, , , ,N
Point05,xy, 2224, 1613,in, deg, 30, 20.0000,N, 9, 30.0000,W, grid, , , ,N
Point06,xy, 2221, 150,in, deg, 30, 40.0000,N, 9, 30.0000,W, grid, , , ,N
Point07,xy, 339, 1613,in, deg, 30, 20.0000,N, 10, 0.0000,W, grid, , , ,N
Point08,xy, 4110, 1606,in, deg, 30, 20.0000,N, 9, 0.0000,W, grid, , , ,N
Point09,xy, 2229, 3082,in, deg, 30, 0.0000,N, 9, 30.0000,W, grid, , , ,N
Point10,xy, , ,in, deg, , ,N, , ,W, grid, , , ,N
Point11,xy, , ,in, deg, , ,N, , ,W, grid, , , ,N
Point12,xy, , ,in, deg, , ,N, , ,W, grid, , , ,N
Point13,xy, , ,in, deg, , ,N, , ,W, grid, , , ,N
Point14,xy, , ,in, deg, , ,N, , ,W, grid, , , ,N
Point15,xy, , ,in, deg, , ,N, , ,W, grid, , , ,N
Point16,xy, , ,in, deg, , ,N, , ,W, grid, , , ,N
Point17,xy, , ,in, deg, , ,N, , ,W, grid, , , ,N
Point18,xy, , ,in, deg, , ,N, , ,W, grid, , , ,N
Point19,xy, , ,in, deg, , ,N, , ,W, grid, , , ,N
Point20,xy, , ,in, deg, , ,N, , ,W, grid, , , ,N
Point21,xy, , ,in, deg, , ,N, , ,W, grid, , , ,N
Point22,xy, , ,in, deg, , ,N, , ,W, grid, , , ,N
Point23,xy, , ,in, deg, , ,N, , ,W, grid, , , ,N
Point24,xy, , ,in, deg, , ,N, , ,W, grid, , , ,N
Point25,xy, , ,in, deg, , ,N, , ,W, grid, , , ,N
Point26,xy, , ,in, deg, , ,N, , ,W, grid, , , ,N
Point27,xy, , ,in, deg, , ,N, , ,W, grid, , , ,N
Point28,xy, , ,in, deg, , ,N, , ,W, grid, , , ,N
Point29,xy, , ,in, deg, , ,N, , ,W, grid, , , ,N
Point30,xy, , ,in, deg, , ,N, , ,W, grid, , , ,N
Projection Setup, 0.000000000, -9.000000000, 1.000000000, 59500000.00, 0.00,,,,,
Map Feature = MF ; Map Comment = MC These follow if they exist
Track File = TF These follow if they exist
Moving Map Parameters = MM? These follow if they exist
MM0,Yes
MMPNUM,4
MMPXY,1,342,152
MMPXY,2,4102,142
MMPXY,3,4122,3071
MMPXY,4,335,3082
MMPLL,1, -9.999998, 30.666232
MMPLL,2, -8.999701, 30.666427
MMPLL,3, -8.999554, 30.000022
MMPLL,4, -10.000234, 29.999690
MM1B,25.486086
Other Grid Setup
GRGRID,Yes,4 Km,No,16711680,255,4 Km,0,16777215,8,0,Yes,Yes,No,x
MOP,Map Open Position,0,0
IWH,Map Image Width/Height,4352,3489
