OziExplorer Map Data File Version 2.2
h28-33
h28-33.jpg
1 ,Map Code,
Pulkovo 1942 (1),WGS 84, 0.0000, 0.0000,WGS 84
Reserved 1
Reserved 2
Magnetic Variation,,,E
Map Projection,Transverse Mercator,PolyCal,No,AutoCalOnly,No,BSBUseWPX,No
Point01,xy, 159, 275,in, deg, 28, 40.0000,N, 16, 0.0000,W, grid, , , ,N
Point02,xy, 5949, 274,in, deg, 28, 40.0000,N, 15, 0.0000,W, grid, , , ,N
Point03,xy, 5970, 4640,in, deg, 28, 0.0000,N, 15, 0.0000,W, grid, , , ,N
Point04,xy, 144, 4639,in, deg, 28, 0.0000,N, 16, 0.0000,W, grid, , , ,N
Point05,xy, 3055, 2464,in, deg, 28, 20.0000,N, 15, 30.0000,W, grid, , , ,N
Point06,xy, 3051, 280,in, deg, 28, 40.0000,N, 15, 30.0000,W, grid, , , ,N
Point07,xy, 152, 2458,in, deg, 28, 20.0000,N, 16, 0.0000,W, grid, , , ,N
Point08,xy, 5961, 2457,in, deg, 28, 20.0000,N, 15, 0.0000,W, grid, , , ,N
Point09,xy, 3059, 4645,in, deg, 28, 0.0000,N, 15, 30.0000,W, grid, , , ,N
Point10,xy, , ,in, deg, , ,N, , ,W, grid, , , ,N
Point11,xy, , ,in, deg, , ,N, , ,W, grid, , , ,N
Point12,xy, , ,in, deg, , ,N, , ,W, grid, , , ,N
Point13,xy, , ,in, deg, , ,N, , ,W, grid, , , ,N
Point14,xy, , ,in, deg, , ,N, , ,W, grid, , , ,N
Point15,xy, , ,in, deg, , ,N, , ,W, grid, , , ,N
Point16,xy, , ,in, deg, , ,N, , ,W, grid, , , ,N
Point17,xy, , ,in, deg, , ,N, , ,W, grid, , , ,N
Point18,xy, , ,in, deg, , ,N, , ,W, grid, , , ,N
Point19,xy, , ,in, deg, , ,N, , ,W, grid, , , ,N
Point20,xy, , ,in, deg, , ,N, , ,W, grid, , , ,N
Point21,xy, , ,in, deg, , ,N, , ,W, grid, , , ,N
Point22,xy, , ,in, deg, , ,N, , ,W, grid, , , ,N
Point23,xy, , ,in, deg, , ,N, , ,W, grid, , , ,N
Point24,xy, , ,in, deg, , ,N, , ,W, grid, , , ,N
Point25,xy, , ,in, deg, , ,N, , ,W, grid, , , ,N
Point26,xy, , ,in, deg, , ,N, , ,W, grid, , , ,N
Point27,xy, , ,in, deg, , ,N, , ,W, grid, , , ,N
Point28,xy, , ,in, deg, , ,N, , ,W, grid, , , ,N
Point29,xy, , ,in, deg, , ,N, , ,W, grid, , , ,N
Point30,xy, , ,in, deg, , ,N, , ,W, grid, , , ,N
Projection Setup, 0.000000000, -15.000000000, 1.000000000, 58500000.00, 0.00,,,,,
Map Feature = MF ; Map Comment = MC These follow if they exist
Track File = TF These follow if they exist
Moving Map Parameters = MM? These follow if they exist
MM0,Yes
MMPNUM,4
MMPXY,1,157,274
MMPXY,2,5952,273
MMPXY,3,5971,4641
MMPXY,4,142,4640
MMPLL,1, -16.000194, 28.666760
MMPLL,2, -14.999359, 28.666900
MMPLL,3, -15.000016, 27.999742
MMPLL,4, -16.000456, 27.999984
MM1B,16.876025
Other Grid Setup
GRGRID,Yes,4 Km,No,16711680,255,4 Km,0,16777215,8,0,Yes,Yes,No,x
MOP,Map Open Position,0,0
IWH,Map Image Width/Height,6193,5034
