OziExplorer Map Data File Version 2.2
g39-04
g39-04.jpg
1 ,Map Code,
Pulkovo 1942 (1),WGS 84, 0.0000, 0.0000,WGS 84
Reserved 1
Reserved 2
Magnetic Variation,,,E
Map Projection,Transverse Mercator,PolyCal,No,AutoCalOnly,No,BSBUseWPX,No
Point01,xy, 229, 181,in, deg, 28, 0.0000,N, 51, 0.0000,E, grid, , , ,N
Point02,xy, 4087, 183,in, deg, 28, 0.0000,N, 52, 0.0000,E, grid, , , ,N
Point03,xy, 4085, 3129,in, deg, 27, 20.0000,N, 52, 0.0000,E, grid, , , ,N
Point04,xy, 204, 3090,in, deg, 27, 20.0000,N, 51, 0.0000,E, grid, , , ,N
Point05,xy, 2155, 1652,in, deg, 27, 40.0000,N, 51, 30.0000,E, grid, , , ,N
Point06,xy, 2158, 187,in, deg, 28, 0.0000,N, 51, 30.0000,E, grid, , , ,N
Point07,xy, 219, 1635,in, deg, 27, 40.0000,N, 51, 0.0000,E, grid, , , ,N
Point08,xy, 4089, 1659,in, deg, 27, 40.0000,N, 52, 0.0000,E, grid, , , ,N
Point09,xy, 2145, 3114,in, deg, 27, 20.0000,N, 51, 30.0000,E, grid, , , ,N
Point10,xy, , ,in, deg, , ,N, , ,W, grid, , , ,N
Point11,xy, , ,in, deg, , ,N, , ,W, grid, , , ,N
Point12,xy, , ,in, deg, , ,N, , ,W, grid, , , ,N
Point13,xy, , ,in, deg, , ,N, , ,W, grid, , , ,N
Point14,xy, , ,in, deg, , ,N, , ,W, grid, , , ,N
Point15,xy, , ,in, deg, , ,N, , ,W, grid, , , ,N
Point16,xy, , ,in, deg, , ,N, , ,W, grid, , , ,N
Point17,xy, , ,in, deg, , ,N, , ,W, grid, , , ,N
Point18,xy, , ,in, deg, , ,N, , ,W, grid, , , ,N
Point19,xy, , ,in, deg, , ,N, , ,W, grid, , , ,N
Point20,xy, , ,in, deg, , ,N, , ,W, grid, , , ,N
Point21,xy, , ,in, deg, , ,N, , ,W, grid, , , ,N
Point22,xy, , ,in, deg, , ,N, , ,W, grid, , , ,N
Point23,xy, , ,in, deg, , ,N, , ,W, grid, , , ,N
Point24,xy, , ,in, deg, , ,N, , ,W, grid, , , ,N
Point25,xy, , ,in, deg, , ,N, , ,W, grid, , , ,N
Point26,xy, , ,in, deg, , ,N, , ,W, grid, , , ,N
Point27,xy, , ,in, deg, , ,N, , ,W, grid, , , ,N
Point28,xy, , ,in, deg, , ,N, , ,W, grid, , , ,N
Point29,xy, , ,in, deg, , ,N, , ,W, grid, , , ,N
Point30,xy, , ,in, deg, , ,N, , ,W, grid, , , ,N
Projection Setup, 0.000000000, 51.000000000, 1.000000000, 9500000.00, 0.00,,,,,
Map Feature = MF ; Map Comment = MC These follow if they exist
Track File = TF These follow if they exist
Moving Map Parameters = MM? These follow if they exist
MM0,Yes
MMPNUM,4
MMPXY,1,228,179
MMPXY,2,4088,181
MMPXY,3,4086,3131
MMPXY,4,204,3092
MMPLL,1, 50.999481, 27.998410
MMPLL,2, 52.000007, 28.002846
MMPLL,3, 51.999905, 27.331078
MMPLL,4, 50.999729, 27.334960
MM1B,25.485944
Other Grid Setup
GRGRID,Yes,4 Km,No,16711680,255,4 Km,0,16777215,8,0,Yes,Yes,No,x
MOP,Map Open Position,0,0
IWH,Map Image Width/Height,4352,3483
