OziExplorer Map Data File Version 2.2
g36-36
g36-36.jpg
1 ,Map Code,
Pulkovo 1942 (1),WGS 84, 0.0000, 0.0000,WGS 84
Reserved 1
Reserved 2
Magnetic Variation,,,E
Map Projection,Transverse Mercator,PolyCal,No,AutoCalOnly,No,BSBUseWPX,No
Point01,xy, 242, 282,in, deg, 24, 40.0000,N, 35, 0.0000,E, grid, , , ,N
Point02,xy, 4217, 288,in, deg, 24, 40.0000,N, 36, 0.0000,E, grid, , , ,N
Point03,xy, 4225, 3251,in, deg, 24, 0.0000,N, 36, 0.0000,E, grid, , , ,N
Point04,xy, 229, 3233,in, deg, 24, 0.0000,N, 35, 0.0000,E, grid, , , ,N
Point05,xy, 2228, 1768,in, deg, 24, 20.0000,N, 35, 30.0000,E, grid, , , ,N
Point06,xy, 2229, 289,in, deg, 24, 40.0000,N, 35, 30.0000,E, grid, , , ,N
Point07,xy, 236, 1761,in, deg, 24, 20.0000,N, 35, 0.0000,E, grid, , , ,N
Point08,xy, 4220, 1768,in, deg, 24, 20.0000,N, 36, 0.0000,E, grid, , , ,N
Point09,xy, 2227, 3246,in, deg, 24, 0.0000,N, 35, 30.0000,E, grid, , , ,N
Point10,xy, , ,in, deg, , ,N, , ,W, grid, , , ,N
Point11,xy, , ,in, deg, , ,N, , ,W, grid, , , ,N
Point12,xy, , ,in, deg, , ,N, , ,W, grid, , , ,N
Point13,xy, , ,in, deg, , ,N, , ,W, grid, , , ,N
Point14,xy, , ,in, deg, , ,N, , ,W, grid, , , ,N
Point15,xy, , ,in, deg, , ,N, , ,W, grid, , , ,N
Point16,xy, , ,in, deg, , ,N, , ,W, grid, , , ,N
Point17,xy, , ,in, deg, , ,N, , ,W, grid, , , ,N
Point18,xy, , ,in, deg, , ,N, , ,W, grid, , , ,N
Point19,xy, , ,in, deg, , ,N, , ,W, grid, , , ,N
Point20,xy, , ,in, deg, , ,N, , ,W, grid, , , ,N
Point21,xy, , ,in, deg, , ,N, , ,W, grid, , , ,N
Point22,xy, , ,in, deg, , ,N, , ,W, grid, , , ,N
Point23,xy, , ,in, deg, , ,N, , ,W, grid, , , ,N
Point24,xy, , ,in, deg, , ,N, , ,W, grid, , , ,N
Point25,xy, , ,in, deg, , ,N, , ,W, grid, , , ,N
Point26,xy, , ,in, deg, , ,N, , ,W, grid, , , ,N
Point27,xy, , ,in, deg, , ,N, , ,W, grid, , , ,N
Point28,xy, , ,in, deg, , ,N, , ,W, grid, , , ,N
Point29,xy, , ,in, deg, , ,N, , ,W, grid, , , ,N
Point30,xy, , ,in, deg, , ,N, , ,W, grid, , , ,N
Projection Setup, 0.000000000, 33.000000000, 1.000000000, 6500000.00, 0.00,,,,,
Map Feature = MF ; Map Comment = MC These follow if they exist
Track File = TF These follow if they exist
Moving Map Parameters = MM? These follow if they exist
MM0,Yes
MMPNUM,4
MMPXY,1,240,281
MMPXY,2,4218,287
MMPXY,3,4226,3252
MMPXY,4,228,3234
MMPLL,1, 34.999482, 24.666592
MMPLL,2, 36.000356, 24.667355
MMPLL,3, 36.000321, 23.999110
MMPLL,4, 34.999675, 24.000616
MM1B,25.472568
Other Grid Setup
GRGRID,Yes,4 Km,No,16711680,255,4 Km,0,16777215,8,0,Yes,Yes,No,x
MOP,Map Open Position,0,0
IWH,Map Image Width/Height,4352,3494
