OziExplorer Map Data File Version 2.2
g36-16e
g36-16e.jpg
1 ,Map Code,
Pulkovo 1942 (1),WGS 84, 0.0000, 0.0000,WGS 84
Reserved 1
Reserved 2
Magnetic Variation,,,E
Map Projection,Transverse Mercator,PolyCal,No,AutoCalOnly,No,BSBUseWPX,No
Point01,xy, 245, 279,in, deg, 26, 40.0000,N, 33, 0.0000,E, grid, , , ,N
Point02,xy, 4150, 284,in, deg, 26, 40.0000,N, 34, 0.0000,E, grid, , , ,N
Point03,xy, 4156, 3243,in, deg, 26, 0.0000,N, 34, 0.0000,E, grid, , , ,N
Point04,xy, 228, 3225,in, deg, 26, 0.0000,N, 33, 0.0000,E, grid, , , ,N
Point05,xy, 2194, 1765,in, deg, 26, 20.0000,N, 33, 30.0000,E, grid, , , ,N
Point06,xy, 2198, 285,in, deg, 26, 40.0000,N, 33, 30.0000,E, grid, , , ,N
Point07,xy, 235, 1760,in, deg, 26, 20.0000,N, 33, 0.0000,E, grid, , , ,N
Point08,xy, 4152, 1763,in, deg, 26, 20.0000,N, 34, 0.0000,E, grid, , , ,N
Point09,xy, 2192, 3238,in, deg, 26, 0.0000,N, 33, 30.0000,E, grid, , , ,N
Point10,xy, , ,in, deg, , ,N, , ,W, grid, , , ,N
Point11,xy, , ,in, deg, , ,N, , ,W, grid, , , ,N
Point12,xy, , ,in, deg, , ,N, , ,W, grid, , , ,N
Point13,xy, , ,in, deg, , ,N, , ,W, grid, , , ,N
Point14,xy, , ,in, deg, , ,N, , ,W, grid, , , ,N
Point15,xy, , ,in, deg, , ,N, , ,W, grid, , , ,N
Point16,xy, , ,in, deg, , ,N, , ,W, grid, , , ,N
Point17,xy, , ,in, deg, , ,N, , ,W, grid, , , ,N
Point18,xy, , ,in, deg, , ,N, , ,W, grid, , , ,N
Point19,xy, , ,in, deg, , ,N, , ,W, grid, , , ,N
Point20,xy, , ,in, deg, , ,N, , ,W, grid, , , ,N
Point21,xy, , ,in, deg, , ,N, , ,W, grid, , , ,N
Point22,xy, , ,in, deg, , ,N, , ,W, grid, , , ,N
Point23,xy, , ,in, deg, , ,N, , ,W, grid, , , ,N
Point24,xy, , ,in, deg, , ,N, , ,W, grid, , , ,N
Point25,xy, , ,in, deg, , ,N, , ,W, grid, , , ,N
Point26,xy, , ,in, deg, , ,N, , ,W, grid, , , ,N
Point27,xy, , ,in, deg, , ,N, , ,W, grid, , , ,N
Point28,xy, , ,in, deg, , ,N, , ,W, grid, , , ,N
Point29,xy, , ,in, deg, , ,N, , ,W, grid, , , ,N
Point30,xy, , ,in, deg, , ,N, , ,W, grid, , , ,N
Projection Setup, 0.000000000, 33.000000000, 1.000000000, 6500000.00, 0.00,,,,,
Map Feature = MF ; Map Comment = MC These follow if they exist
Track File = TF These follow if they exist
Moving Map Parameters = MM? These follow if they exist
MM0,Yes
MMPNUM,4
MMPXY,1,243,277
MMPXY,2,4151,284
MMPXY,3,4157,3244
MMPXY,4,226,3226
MMPLL,1, 32.999595, 26.666968
MMPLL,2, 34.000257, 26.667302
MMPLL,3, 34.000366, 25.999031
MMPLL,4, 32.999562, 26.001087
MM1B,25.479809
Other Grid Setup
GRGRID,Yes,4 Km,No,16711680,255,4 Km,0,16777215,8,0,Yes,Yes,No,x
MOP,Map Open Position,0,0
IWH,Map Image Width/Height,4352,3520
