OziExplorer Map Data File Version 2.2
g36-16
g36-16.jpg
1 ,Map Code,
Pulkovo 1942 (1),WGS 84, 0.0000, 0.0000,WGS 84
Reserved 1
Reserved 2
Magnetic Variation,,,E
Map Projection,Transverse Mercator,PolyCal,No,AutoCalOnly,No,BSBUseWPX,No
Point01,xy, 361, 305,in, deg, 26, 40.0000,N, 33, 0.0000,E, grid, , , ,N
Point02,xy, 8181, 315,in, deg, 26, 40.0000,N, 34, 0.0000,E, grid, , , ,N
Point03,xy, 8197, 6153,in, deg, 26, 0.0000,N, 34, 0.0000,E, grid, , , ,N
Point04,xy, 330, 6146,in, deg, 26, 0.0000,N, 33, 0.0000,E, grid, , , ,N
Point05,xy, 4263, 3237,in, deg, 26, 20.0000,N, 33, 30.0000,E, grid, , , ,N
Point06,xy, 4268, 315,in, deg, 26, 40.0000,N, 33, 30.0000,E, grid, , , ,N
Point07,xy, 344, 3225,in, deg, 26, 20.0000,N, 33, 0.0000,E, grid, , , ,N
Point08,xy, 8188, 3233,in, deg, 26, 20.0000,N, 34, 0.0000,E, grid, , , ,N
Point09,xy, 4261, 6157,in, deg, 26, 0.0000,N, 33, 30.0000,E, grid, , , ,N
Point10,xy, , ,in, deg, , ,N, , ,W, grid, , , ,N
Point11,xy, , ,in, deg, , ,N, , ,W, grid, , , ,N
Point12,xy, , ,in, deg, , ,N, , ,W, grid, , , ,N
Point13,xy, , ,in, deg, , ,N, , ,W, grid, , , ,N
Point14,xy, , ,in, deg, , ,N, , ,W, grid, , , ,N
Point15,xy, , ,in, deg, , ,N, , ,W, grid, , , ,N
Point16,xy, , ,in, deg, , ,N, , ,W, grid, , , ,N
Point17,xy, , ,in, deg, , ,N, , ,W, grid, , , ,N
Point18,xy, , ,in, deg, , ,N, , ,W, grid, , , ,N
Point19,xy, , ,in, deg, , ,N, , ,W, grid, , , ,N
Point20,xy, , ,in, deg, , ,N, , ,W, grid, , , ,N
Point21,xy, , ,in, deg, , ,N, , ,W, grid, , , ,N
Point22,xy, , ,in, deg, , ,N, , ,W, grid, , , ,N
Point23,xy, , ,in, deg, , ,N, , ,W, grid, , , ,N
Point24,xy, , ,in, deg, , ,N, , ,W, grid, , , ,N
Point25,xy, , ,in, deg, , ,N, , ,W, grid, , , ,N
Point26,xy, , ,in, deg, , ,N, , ,W, grid, , , ,N
Point27,xy, , ,in, deg, , ,N, , ,W, grid, , , ,N
Point28,xy, , ,in, deg, , ,N, , ,W, grid, , , ,N
Point29,xy, , ,in, deg, , ,N, , ,W, grid, , , ,N
Point30,xy, , ,in, deg, , ,N, , ,W, grid, , , ,N
Projection Setup, 0.000000000, 33.000000000, 1.000000000, 6500000.00, 0.00,,,,,
Map Feature = MF ; Map Comment = MC These follow if they exist
Track File = TF These follow if they exist
Moving Map Parameters = MM? These follow if they exist
MM0,Yes
MMPNUM,4
MMPXY,1,357,302
MMPXY,2,8182,314
MMPXY,3,8198,6154
MMPXY,4,328,6146
MMPLL,1, 32.999742, 26.667013
MMPLL,2, 34.000235, 26.666551
MMPLL,3, 34.000345, 25.999971
MMPLL,4, 32.999849, 25.999890
MM1B,12.723211
Other Grid Setup
GRGRID,Yes,4 Km,No,16711680,255,4 Km,0,16777215,8,0,Yes,Yes,No,x
MOP,Map Open Position,0,0
IWH,Map Image Width/Height,8624,6774
