OziExplorer Map Data File Version 2.2
g36-05
g36-05.jpg
1 ,Map Code,
Pulkovo 1942 (1),WGS 84, 0.0000, 0.0000,WGS 84
Reserved 1
Reserved 2
Magnetic Variation,,,E
Map Projection,Transverse Mercator,PolyCal,No,AutoCalOnly,No,BSBUseWPX,No
Point01,xy, 309, 172,in, deg, 28, 0.0000,N, 34, 0.0000,E, grid, , , ,N
Point02,xy, 4166, 170,in, deg, 28, 0.0000,N, 35, 0.0000,E, grid, , , ,N
Point03,xy, 4176, 3130,in, deg, 27, 20.0000,N, 35, 0.0000,E, grid, , , ,N
Point04,xy, 297, 3116,in, deg, 27, 20.0000,N, 34, 0.0000,E, grid, , , ,N
Point05,xy, 2238, 1656,in, deg, 27, 40.0000,N, 34, 30.0000,E, grid, , , ,N
Point06,xy, 2239, 175,in, deg, 28, 0.0000,N, 34, 30.0000,E, grid, , , ,N
Point07,xy, 303, 1654,in, deg, 27, 40.0000,N, 34, 0.0000,E, grid, , , ,N
Point08,xy, 4171, 1651,in, deg, 27, 40.0000,N, 35, 0.0000,E, grid, , , ,N
Point09,xy, 2237, 3128,in, deg, 27, 20.0000,N, 34, 30.0000,E, grid, , , ,N
Point10,xy, , ,in, deg, , ,N, , ,W, grid, , , ,N
Point11,xy, , ,in, deg, , ,N, , ,W, grid, , , ,N
Point12,xy, , ,in, deg, , ,N, , ,W, grid, , , ,N
Point13,xy, , ,in, deg, , ,N, , ,W, grid, , , ,N
Point14,xy, , ,in, deg, , ,N, , ,W, grid, , , ,N
Point15,xy, , ,in, deg, , ,N, , ,W, grid, , , ,N
Point16,xy, , ,in, deg, , ,N, , ,W, grid, , , ,N
Point17,xy, , ,in, deg, , ,N, , ,W, grid, , , ,N
Point18,xy, , ,in, deg, , ,N, , ,W, grid, , , ,N
Point19,xy, , ,in, deg, , ,N, , ,W, grid, , , ,N
Point20,xy, , ,in, deg, , ,N, , ,W, grid, , , ,N
Point21,xy, , ,in, deg, , ,N, , ,W, grid, , , ,N
Point22,xy, , ,in, deg, , ,N, , ,W, grid, , , ,N
Point23,xy, , ,in, deg, , ,N, , ,W, grid, , , ,N
Point24,xy, , ,in, deg, , ,N, , ,W, grid, , , ,N
Point25,xy, , ,in, deg, , ,N, , ,W, grid, , , ,N
Point26,xy, , ,in, deg, , ,N, , ,W, grid, , , ,N
Point27,xy, , ,in, deg, , ,N, , ,W, grid, , , ,N
Point28,xy, , ,in, deg, , ,N, , ,W, grid, , , ,N
Point29,xy, , ,in, deg, , ,N, , ,W, grid, , , ,N
Point30,xy, , ,in, deg, , ,N, , ,W, grid, , , ,N
Projection Setup, 0.000000000, 33.000000000, 1.000000000, 6500000.00, 0.00,,,,,
Map Feature = MF ; Map Comment = MC These follow if they exist
Track File = TF These follow if they exist
Moving Map Parameters = MM? These follow if they exist
MM0,Yes
MMPNUM,4
MMPXY,1,308,172
MMPXY,2,4167,168
MMPXY,3,4178,3131
MMPXY,4,295,3119
MMPLL,1, 33.999506, 27.999877
MMPLL,2, 35.000228, 28.001340
MMPLL,3, 35.000369, 27.332392
MMPLL,4, 33.999522, 27.334298
MM1B,25.502361
Other Grid Setup
GRGRID,Yes,4 Km,No,16711680,255,4 Km,0,16777215,8,0,Yes,Yes,No,x
MOP,Map Open Position,0,0
IWH,Map Image Width/Height,4352,3511
