OziExplorer Map Data File Version 2.2
g36-04
g36-04.jpg
1 ,Map Code,
Pulkovo 1942 (1),WGS 84, 0.0000, 0.0000,WGS 84
Reserved 1
Reserved 2
Magnetic Variation,,,E
Map Projection,Transverse Mercator,PolyCal,No,AutoCalOnly,No,BSBUseWPX,No
Point01,xy, 276, 264,in, deg, 28, 0.0000,N, 33, 0.0000,E, grid, , , ,N
Point02,xy, 4133, 269,in, deg, 28, 0.0000,N, 34, 0.0000,E, grid, , , ,N
Point03,xy, 4136, 3221,in, deg, 27, 20.0000,N, 34, 0.0000,E, grid, , , ,N
Point04,xy, 257, 3197,in, deg, 27, 20.0000,N, 33, 0.0000,E, grid, , , ,N
Point05,xy, 2200, 1740,in, deg, 27, 40.0000,N, 33, 30.0000,E, grid, , , ,N
Point06,xy, 2205, 270,in, deg, 28, 0.0000,N, 33, 30.0000,E, grid, , , ,N
Point07,xy, 267, 1733,in, deg, 27, 40.0000,N, 33, 0.0000,E, grid, , , ,N
Point08,xy, 4135, 1743,in, deg, 27, 40.0000,N, 34, 0.0000,E, grid, , , ,N
Point09,xy, 2195, 3213,in, deg, 27, 20.0000,N, 33, 30.0000,E, grid, , , ,N
Point10,xy, , ,in, deg, , ,N, , ,W, grid, , , ,N
Point11,xy, , ,in, deg, , ,N, , ,W, grid, , , ,N
Point12,xy, , ,in, deg, , ,N, , ,W, grid, , , ,N
Point13,xy, , ,in, deg, , ,N, , ,W, grid, , , ,N
Point14,xy, , ,in, deg, , ,N, , ,W, grid, , , ,N
Point15,xy, , ,in, deg, , ,N, , ,W, grid, , , ,N
Point16,xy, , ,in, deg, , ,N, , ,W, grid, , , ,N
Point17,xy, , ,in, deg, , ,N, , ,W, grid, , , ,N
Point18,xy, , ,in, deg, , ,N, , ,W, grid, , , ,N
Point19,xy, , ,in, deg, , ,N, , ,W, grid, , , ,N
Point20,xy, , ,in, deg, , ,N, , ,W, grid, , , ,N
Point21,xy, , ,in, deg, , ,N, , ,W, grid, , , ,N
Point22,xy, , ,in, deg, , ,N, , ,W, grid, , , ,N
Point23,xy, , ,in, deg, , ,N, , ,W, grid, , , ,N
Point24,xy, , ,in, deg, , ,N, , ,W, grid, , , ,N
Point25,xy, , ,in, deg, , ,N, , ,W, grid, , , ,N
Point26,xy, , ,in, deg, , ,N, , ,W, grid, , , ,N
Point27,xy, , ,in, deg, , ,N, , ,W, grid, , , ,N
Point28,xy, , ,in, deg, , ,N, , ,W, grid, , , ,N
Point29,xy, , ,in, deg, , ,N, , ,W, grid, , , ,N
Point30,xy, , ,in, deg, , ,N, , ,W, grid, , , ,N
Projection Setup, 0.000000000, 33.000000000, 1.000000000, 6500000.00, 0.00,,,,,
Map Feature = MF ; Map Comment = MC These follow if they exist
Track File = TF These follow if they exist
Moving Map Parameters = MM? These follow if they exist
MM0,Yes
MMPNUM,4
MMPXY,1,275,261
MMPXY,2,4135,268
MMPXY,3,4137,3222
MMPXY,4,255,3198
MMPLL,1, 32.999569, 27.999727
MMPLL,2, 34.000543, 28.001043
MMPLL,3, 34.000261, 27.331863
MMPLL,4, 32.999666, 27.334300
MM1B,25.497562
Other Grid Setup
GRGRID,Yes,4 Km,No,16711680,255,4 Km,0,16777215,8,0,Yes,Yes,No,x
MOP,Map Open Position,0,0
IWH,Map Image Width/Height,4352,3594
