OziExplorer Map Data File Version 2.2
g35-06
g35-06.jpg
1 ,Map Code,
Pulkovo 1942 (1),WGS 84, 0.0000, 0.0000,WGS 84
Reserved 1
Reserved 2
Magnetic Variation,,,E
Map Projection,Transverse Mercator,PolyCal,No,AutoCalOnly,No,BSBUseWPX,No
Point01,xy, 259, 279,in, deg, 28, 0.0000,N, 29, 0.0000,E, grid, , , ,N
Point02,xy, 4122, 256,in, deg, 28, 0.0000,N, 30, 0.0000,E, grid, , , ,N
Point03,xy, 4156, 3220,in, deg, 27, 20.0000,N, 30, 0.0000,E, grid, , , ,N
Point04,xy, 270, 3252,in, deg, 27, 20.0000,N, 29, 0.0000,E, grid, , , ,N
Point05,xy, 2198, 1758,in, deg, 27, 40.0000,N, 29, 30.0000,E, grid, , , ,N
Point06,xy, 2190, 272,in, deg, 28, 0.0000,N, 29, 30.0000,E, grid, , , ,N
Point07,xy, 262, 1773,in, deg, 27, 40.0000,N, 29, 0.0000,E, grid, , , ,N
Point08,xy, 4135, 1739,in, deg, 27, 40.0000,N, 30, 0.0000,E, grid, , , ,N
Point09,xy, 2214, 3241,in, deg, 27, 20.0000,N, 29, 30.0000,E, grid, , , ,N
Point10,xy, , ,in, deg, , ,N, , ,W, grid, , , ,N
Point11,xy, , ,in, deg, , ,N, , ,W, grid, , , ,N
Point12,xy, , ,in, deg, , ,N, , ,W, grid, , , ,N
Point13,xy, , ,in, deg, , ,N, , ,W, grid, , , ,N
Point14,xy, , ,in, deg, , ,N, , ,W, grid, , , ,N
Point15,xy, , ,in, deg, , ,N, , ,W, grid, , , ,N
Point16,xy, , ,in, deg, , ,N, , ,W, grid, , , ,N
Point17,xy, , ,in, deg, , ,N, , ,W, grid, , , ,N
Point18,xy, , ,in, deg, , ,N, , ,W, grid, , , ,N
Point19,xy, , ,in, deg, , ,N, , ,W, grid, , , ,N
Point20,xy, , ,in, deg, , ,N, , ,W, grid, , , ,N
Point21,xy, , ,in, deg, , ,N, , ,W, grid, , , ,N
Point22,xy, , ,in, deg, , ,N, , ,W, grid, , , ,N
Point23,xy, , ,in, deg, , ,N, , ,W, grid, , , ,N
Point24,xy, , ,in, deg, , ,N, , ,W, grid, , , ,N
Point25,xy, , ,in, deg, , ,N, , ,W, grid, , , ,N
Point26,xy, , ,in, deg, , ,N, , ,W, grid, , , ,N
Point27,xy, , ,in, deg, , ,N, , ,W, grid, , , ,N
Point28,xy, , ,in, deg, , ,N, , ,W, grid, , , ,N
Point29,xy, , ,in, deg, , ,N, , ,W, grid, , , ,N
Point30,xy, , ,in, deg, , ,N, , ,W, grid, , , ,N
Projection Setup, 0.000000000, 27.000000000, 1.000000000, 5500000.00, 0.00,,,,,
Map Feature = MF ; Map Comment = MC These follow if they exist
Track File = TF These follow if they exist
Moving Map Parameters = MM? These follow if they exist
MM0,Yes
MMPNUM,4
MMPXY,1,257,278
MMPXY,2,4124,256
MMPXY,3,4158,3221
MMPXY,4,268,3252
MMPLL,1, 28.999722, 28.001346
MMPLL,2, 30.000951, 27.999431
MMPLL,3, 30.000757, 27.333775
MMPLL,4, 28.999660, 27.333306
MM1B,25.474345
Other Grid Setup
GRGRID,Yes,4 Km,No,16711680,255,4 Km,0,16777215,8,0,Yes,Yes,No,x
MOP,Map Open Position,0,0
IWH,Map Image Width/Height,4352,3599
