OziExplorer Map Data File Version 2.2
g34-36
g34-36.jpg
1 ,Map Code,
Pulkovo 1942 (1),WGS 84, 0.0000, 0.0000,WGS 84
Reserved 1
Reserved 2
Magnetic Variation,,,E
Map Projection,Transverse Mercator,PolyCal,No,AutoCalOnly,No,BSBUseWPX,No
Point01,xy, 182, 203,in, deg, 24, 40.0000,N, 23, 0.0000,E, grid, , , ,N
Point02,xy, 4155, 196,in, deg, 24, 40.0000,N, 24, 0.0000,E, grid, , , ,N
Point03,xy, 4162, 3152,in, deg, 24, 0.0000,N, 24, 0.0000,E, grid, , , ,N
Point04,xy, 166, 3121,in, deg, 24, 0.0000,N, 23, 0.0000,E, grid, , , ,N
Point05,xy, 2171, 1672,in, deg, 24, 20.0000,N, 23, 30.0000,E, grid, , , ,N
Point06,xy, 2168, 203,in, deg, 24, 40.0000,N, 23, 30.0000,E, grid, , , ,N
Point07,xy, 176, 1661,in, deg, 24, 20.0000,N, 23, 0.0000,E, grid, , , ,N
Point08,xy, 4162, 1675,in, deg, 24, 20.0000,N, 24, 0.0000,E, grid, , , ,N
Point09,xy, 2164, 3142,in, deg, 24, 0.0000,N, 23, 30.0000,E, grid, , , ,N
Point10,xy, , ,in, deg, , ,N, , ,W, grid, , , ,N
Point11,xy, , ,in, deg, , ,N, , ,W, grid, , , ,N
Point12,xy, , ,in, deg, , ,N, , ,W, grid, , , ,N
Point13,xy, , ,in, deg, , ,N, , ,W, grid, , , ,N
Point14,xy, , ,in, deg, , ,N, , ,W, grid, , , ,N
Point15,xy, , ,in, deg, , ,N, , ,W, grid, , , ,N
Point16,xy, , ,in, deg, , ,N, , ,W, grid, , , ,N
Point17,xy, , ,in, deg, , ,N, , ,W, grid, , , ,N
Point18,xy, , ,in, deg, , ,N, , ,W, grid, , , ,N
Point19,xy, , ,in, deg, , ,N, , ,W, grid, , , ,N
Point20,xy, , ,in, deg, , ,N, , ,W, grid, , , ,N
Point21,xy, , ,in, deg, , ,N, , ,W, grid, , , ,N
Point22,xy, , ,in, deg, , ,N, , ,W, grid, , , ,N
Point23,xy, , ,in, deg, , ,N, , ,W, grid, , , ,N
Point24,xy, , ,in, deg, , ,N, , ,W, grid, , , ,N
Point25,xy, , ,in, deg, , ,N, , ,W, grid, , , ,N
Point26,xy, , ,in, deg, , ,N, , ,W, grid, , , ,N
Point27,xy, , ,in, deg, , ,N, , ,W, grid, , , ,N
Point28,xy, , ,in, deg, , ,N, , ,W, grid, , , ,N
Point29,xy, , ,in, deg, , ,N, , ,W, grid, , , ,N
Point30,xy, , ,in, deg, , ,N, , ,W, grid, , , ,N
Projection Setup, 0.000000000, 21.000000000, 1.000000000, 4500000.00, 0.00,,,,,
Map Feature = MF ; Map Comment = MC These follow if they exist
Track File = TF These follow if they exist
Moving Map Parameters = MM? These follow if they exist
MM0,Yes
MMPNUM,4
MMPXY,1,180,202
MMPXY,2,4158,195
MMPXY,3,4162,3154
MMPXY,4,165,3123
MMPLL,1, 22.999436, 24.664736
MMPLL,2, 24.000303, 24.668990
MMPLL,3, 23.999763, 23.997710
MMPLL,4, 22.999362, 24.001639
MM1B,25.472214
Other Grid Setup
GRGRID,Yes,4 Km,No,16711680,255,4 Km,0,16777215,8,0,Yes,Yes,No,x
MOP,Map Open Position,0,0
IWH,Map Image Width/Height,4352,3604
