OziExplorer Map Data File Version 2.2
g33-36
g33-36.jpg
1 ,Map Code,
Pulkovo 1942 (1),WGS 84, 0.0000, 0.0000,WGS 84
Reserved 1
Reserved 2
Magnetic Variation,,,E
Map Projection,Transverse Mercator,PolyCal,No,AutoCalOnly,No,BSBUseWPX,No
Point01,xy, 240, 245,in, deg, 24, 40.0000,N, 17, 0.0000,E, grid, , , ,N
Point02,xy, 4214, 256,in, deg, 24, 40.0000,N, 18, 0.0000,E, grid, , , ,N
Point03,xy, 4210, 3211,in, deg, 24, 0.0000,N, 18, 0.0000,E, grid, , , ,N
Point04,xy, 215, 3164,in, deg, 24, 0.0000,N, 17, 0.0000,E, grid, , , ,N
Point05,xy, 2221, 1721,in, deg, 24, 20.0000,N, 17, 30.0000,E, grid, , , ,N
Point06,xy, 2226, 255,in, deg, 24, 40.0000,N, 17, 30.0000,E, grid, , , ,N
Point07,xy, 230, 1705,in, deg, 24, 20.0000,N, 17, 0.0000,E, grid, , , ,N
Point08,xy, 4213, 1733,in, deg, 24, 20.0000,N, 18, 0.0000,E, grid, , , ,N
Point09,xy, 2213, 3191,in, deg, 24, 0.0000,N, 17, 30.0000,E, grid, , , ,N
Point10,xy, , ,in, deg, , ,N, , ,W, grid, , , ,N
Point11,xy, , ,in, deg, , ,N, , ,W, grid, , , ,N
Point12,xy, , ,in, deg, , ,N, , ,W, grid, , , ,N
Point13,xy, , ,in, deg, , ,N, , ,W, grid, , , ,N
Point14,xy, , ,in, deg, , ,N, , ,W, grid, , , ,N
Point15,xy, , ,in, deg, , ,N, , ,W, grid, , , ,N
Point16,xy, , ,in, deg, , ,N, , ,W, grid, , , ,N
Point17,xy, , ,in, deg, , ,N, , ,W, grid, , , ,N
Point18,xy, , ,in, deg, , ,N, , ,W, grid, , , ,N
Point19,xy, , ,in, deg, , ,N, , ,W, grid, , , ,N
Point20,xy, , ,in, deg, , ,N, , ,W, grid, , , ,N
Point21,xy, , ,in, deg, , ,N, , ,W, grid, , , ,N
Point22,xy, , ,in, deg, , ,N, , ,W, grid, , , ,N
Point23,xy, , ,in, deg, , ,N, , ,W, grid, , , ,N
Point24,xy, , ,in, deg, , ,N, , ,W, grid, , , ,N
Point25,xy, , ,in, deg, , ,N, , ,W, grid, , , ,N
Point26,xy, , ,in, deg, , ,N, , ,W, grid, , , ,N
Point27,xy, , ,in, deg, , ,N, , ,W, grid, , , ,N
Point28,xy, , ,in, deg, , ,N, , ,W, grid, , , ,N
Point29,xy, , ,in, deg, , ,N, , ,W, grid, , , ,N
Point30,xy, , ,in, deg, , ,N, , ,W, grid, , , ,N
Projection Setup, 0.000000000, 15.000000000, 1.000000000, 3500000.00, 0.00,,,,,
Map Feature = MF ; Map Comment = MC These follow if they exist
Track File = TF These follow if they exist
Moving Map Parameters = MM? These follow if they exist
MM0,Yes
MMPNUM,4
MMPXY,1,239,244
MMPXY,2,4214,255
MMPXY,3,4211,3212
MMPXY,4,215,3165
MMPLL,1, 16.999636, 24.665005
MMPLL,2, 17.999986, 24.668797
MMPLL,3, 18.000132, 23.997752
MMPLL,4, 16.999716, 24.001674
MM1B,25.476046
Other Grid Setup
GRGRID,Yes,4 Km,No,16711680,255,4 Km,0,16777215,8,0,Yes,Yes,No,x
MOP,Map Open Position,0,0
IWH,Map Image Width/Height,4352,3530
