OziExplorer Map Data File Version 2.2
g32-35
g32-35.jpg
1 ,Map Code,
Pulkovo 1942 (1),WGS 84, 0.0000, 0.0000,WGS 84
Reserved 1
Reserved 2
Magnetic Variation,,,E
Map Projection,Transverse Mercator,PolyCal,No,AutoCalOnly,No,BSBUseWPX,No
Point01,xy, 221, 239,in, deg, 24, 40.0000,N, 10, 0.0000,E, grid, , , ,N
Point02,xy, 4193, 235,in, deg, 24, 40.0000,N, 11, 0.0000,E, grid, , , ,N
Point03,xy, 4199, 3181,in, deg, 24, 0.0000,N, 11, 0.0000,E, grid, , , ,N
Point04,xy, 207, 3154,in, deg, 24, 0.0000,N, 10, 0.0000,E, grid, , , ,N
Point05,xy, 2210, 1707,in, deg, 24, 20.0000,N, 10, 30.0000,E, grid, , , ,N
Point06,xy, 2210, 239,in, deg, 24, 40.0000,N, 10, 30.0000,E, grid, , , ,N
Point07,xy, 218, 1705,in, deg, 24, 20.0000,N, 10, 0.0000,E, grid, , , ,N
Point08,xy, 4199, 1706,in, deg, 24, 20.0000,N, 11, 0.0000,E, grid, , , ,N
Point09,xy, 2204, 3170,in, deg, 24, 0.0000,N, 10, 30.0000,E, grid, , , ,N
Point10,xy, , ,in, deg, , ,N, , ,W, grid, , , ,N
Point11,xy, , ,in, deg, , ,N, , ,W, grid, , , ,N
Point12,xy, , ,in, deg, , ,N, , ,W, grid, , , ,N
Point13,xy, , ,in, deg, , ,N, , ,W, grid, , , ,N
Point14,xy, , ,in, deg, , ,N, , ,W, grid, , , ,N
Point15,xy, , ,in, deg, , ,N, , ,W, grid, , , ,N
Point16,xy, , ,in, deg, , ,N, , ,W, grid, , , ,N
Point17,xy, , ,in, deg, , ,N, , ,W, grid, , , ,N
Point18,xy, , ,in, deg, , ,N, , ,W, grid, , , ,N
Point19,xy, , ,in, deg, , ,N, , ,W, grid, , , ,N
Point20,xy, , ,in, deg, , ,N, , ,W, grid, , , ,N
Point21,xy, , ,in, deg, , ,N, , ,W, grid, , , ,N
Point22,xy, , ,in, deg, , ,N, , ,W, grid, , , ,N
Point23,xy, , ,in, deg, , ,N, , ,W, grid, , , ,N
Point24,xy, , ,in, deg, , ,N, , ,W, grid, , , ,N
Point25,xy, , ,in, deg, , ,N, , ,W, grid, , , ,N
Point26,xy, , ,in, deg, , ,N, , ,W, grid, , , ,N
Point27,xy, , ,in, deg, , ,N, , ,W, grid, , , ,N
Point28,xy, , ,in, deg, , ,N, , ,W, grid, , , ,N
Point29,xy, , ,in, deg, , ,N, , ,W, grid, , , ,N
Point30,xy, , ,in, deg, , ,N, , ,W, grid, , , ,N
Projection Setup, 0.000000000, 9.000000000, 1.000000000, 2500000.00, 0.00,,,,,
Map Feature = MF ; Map Comment = MC These follow if they exist
Track File = TF These follow if they exist
Moving Map Parameters = MM? These follow if they exist
MM0,Yes
MMPNUM,4
MMPXY,1,220,238
MMPXY,2,4195,233
MMPXY,3,4202,3182
MMPXY,4,206,3156
MMPLL,1, 9.999116, 24.665687
MMPLL,2, 11.000067, 24.668522
MMPLL,3, 11.000368, 23.997823
MMPLL,4, 9.999377, 24.001777
MM1B,25.484161
Other Grid Setup
GRGRID,Yes,4 Km,No,16711680,255,4 Km,0,16777215,8,0,Yes,Yes,No,x
MOP,Map Open Position,0,0
IWH,Map Image Width/Height,4352,3485
