OziExplorer Map Data File Version 2.2
g31-36
g31-36.jpg
1 ,Map Code,
Pulkovo 1942 (1),WGS 84, 0.0000, 0.0000,WGS 84
Reserved 1
Reserved 2
Magnetic Variation,,,E
Map Projection,Transverse Mercator,PolyCal,No,AutoCalOnly,No,BSBUseWPX,No
Point01,xy, 161, 249,in, deg, 24, 40.0000,N, 5, 0.0000,E, grid, , , ,N
Point02,xy, 4133, 262,in, deg, 24, 40.0000,N, 6, 0.0000,E, grid, , , ,N
Point03,xy, 4140, 3205,in, deg, 24, 0.0000,N, 6, 0.0000,E, grid, , , ,N
Point04,xy, 148, 3197,in, deg, 24, 0.0000,N, 5, 0.0000,E, grid, , , ,N
Point05,xy, 2145, 1732,in, deg, 24, 20.0000,N, 5, 30.0000,E, grid, , , ,N
Point06,xy, 2148, 259,in, deg, 24, 40.0000,N, 5, 30.0000,E, grid, , , ,N
Point07,xy, 155, 1722,in, deg, 24, 20.0000,N, 5, 0.0000,E, grid, , , ,N
Point08,xy, 4137, 1736,in, deg, 24, 20.0000,N, 6, 0.0000,E, grid, , , ,N
Point09,xy, 2143, 3204,in, deg, 24, 0.0000,N, 5, 30.0000,E, grid, , , ,N
Point10,xy, , ,in, deg, , ,N, , ,W, grid, , , ,N
Point11,xy, , ,in, deg, , ,N, , ,W, grid, , , ,N
Point12,xy, , ,in, deg, , ,N, , ,W, grid, , , ,N
Point13,xy, , ,in, deg, , ,N, , ,W, grid, , , ,N
Point14,xy, , ,in, deg, , ,N, , ,W, grid, , , ,N
Point15,xy, , ,in, deg, , ,N, , ,W, grid, , , ,N
Point16,xy, , ,in, deg, , ,N, , ,W, grid, , , ,N
Point17,xy, , ,in, deg, , ,N, , ,W, grid, , , ,N
Point18,xy, , ,in, deg, , ,N, , ,W, grid, , , ,N
Point19,xy, , ,in, deg, , ,N, , ,W, grid, , , ,N
Point20,xy, , ,in, deg, , ,N, , ,W, grid, , , ,N
Point21,xy, , ,in, deg, , ,N, , ,W, grid, , , ,N
Point22,xy, , ,in, deg, , ,N, , ,W, grid, , , ,N
Point23,xy, , ,in, deg, , ,N, , ,W, grid, , , ,N
Point24,xy, , ,in, deg, , ,N, , ,W, grid, , , ,N
Point25,xy, , ,in, deg, , ,N, , ,W, grid, , , ,N
Point26,xy, , ,in, deg, , ,N, , ,W, grid, , , ,N
Point27,xy, , ,in, deg, , ,N, , ,W, grid, , , ,N
Point28,xy, , ,in, deg, , ,N, , ,W, grid, , , ,N
Point29,xy, , ,in, deg, , ,N, , ,W, grid, , , ,N
Point30,xy, , ,in, deg, , ,N, , ,W, grid, , , ,N
Projection Setup, 0.000000000, 3.000000000, 1.000000000, 1500000.00, 0.00,,,,,
Map Feature = MF ; Map Comment = MC These follow if they exist
Track File = TF These follow if they exist
Moving Map Parameters = MM? These follow if they exist
MM0,Yes
MMPNUM,4
MMPXY,1,159,247
MMPXY,2,4135,261
MMPXY,3,4141,3206
MMPXY,4,147,3198
MMPLL,1, 4.999324, 24.667411
MMPLL,2, 6.000450, 24.666666
MMPLL,3, 6.000256, 24.000299
MMPLL,4, 4.999862, 23.999251
MM1B,25.491570
Other Grid Setup
GRGRID,Yes,4 Km,No,16711680,255,4 Km,0,16777215,8,0,Yes,Yes,No,x
MOP,Map Open Position,0,0
IWH,Map Image Width/Height,4352,3494
