OziExplorer Map Data File Version 2.2
g30-12
g30-12.jpg
1 ,Map Code,
Pulkovo 1942 (1),WGS 84, 0.0000, 0.0000,WGS 84
Reserved 1
Reserved 2
Magnetic Variation,,,E
Map Projection,Transverse Mercator,PolyCal,No,AutoCalOnly,No,BSBUseWPX,No
Point01,xy, 262, 214,in, deg, 27, 20.0000,N, 1, 0.0000,W, grid, , , ,N
Point02,xy, 4148, 202,in, deg, 27, 20.0000,N, 0, 0.0000,E, grid, , , ,N
Point03,xy, 4170, 3162,in, deg, 26, 40.0000,N, 0, 0.0000,E, grid, , , ,N
Point04,xy, 264, 3173,in, deg, 26, 40.0000,N, 1, 0.0000,W, grid, , , ,N
Point05,xy, 2209, 1695,in, deg, 27, 0.0000,N, 0, 30.0000,W, grid, , , ,N
Point06,xy, 2206, 212,in, deg, 27, 20.0000,N, 0, 30.0000,W, grid, , , ,N
Point07,xy, 260, 1702,in, deg, 27, 0.0000,N, 1, 0.0000,W, grid, , , ,N
Point08,xy, 4157, 1682,in, deg, 27, 0.0000,N, 0, 0.0000,E, grid, , , ,N
Point09,xy, 2218, 3172,in, deg, 26, 40.0000,N, 0, 30.0000,W, grid, , , ,N
Point10,xy, , ,in, deg, , ,N, , ,W, grid, , , ,N
Point11,xy, , ,in, deg, , ,N, , ,W, grid, , , ,N
Point12,xy, , ,in, deg, , ,N, , ,W, grid, , , ,N
Point13,xy, , ,in, deg, , ,N, , ,W, grid, , , ,N
Point14,xy, , ,in, deg, , ,N, , ,W, grid, , , ,N
Point15,xy, , ,in, deg, , ,N, , ,W, grid, , , ,N
Point16,xy, , ,in, deg, , ,N, , ,W, grid, , , ,N
Point17,xy, , ,in, deg, , ,N, , ,W, grid, , , ,N
Point18,xy, , ,in, deg, , ,N, , ,W, grid, , , ,N
Point19,xy, , ,in, deg, , ,N, , ,W, grid, , , ,N
Point20,xy, , ,in, deg, , ,N, , ,W, grid, , , ,N
Point21,xy, , ,in, deg, , ,N, , ,W, grid, , , ,N
Point22,xy, , ,in, deg, , ,N, , ,W, grid, , , ,N
Point23,xy, , ,in, deg, , ,N, , ,W, grid, , , ,N
Point24,xy, , ,in, deg, , ,N, , ,W, grid, , , ,N
Point25,xy, , ,in, deg, , ,N, , ,W, grid, , , ,N
Point26,xy, , ,in, deg, , ,N, , ,W, grid, , , ,N
Point27,xy, , ,in, deg, , ,N, , ,W, grid, , , ,N
Point28,xy, , ,in, deg, , ,N, , ,W, grid, , , ,N
Point29,xy, , ,in, deg, , ,N, , ,W, grid, , , ,N
Point30,xy, , ,in, deg, , ,N, , ,W, grid, , , ,N
Projection Setup, 0.000000000, -3.000000000, 1.000000000, 60500000.00, 0.00,,,,,
Map Feature = MF ; Map Comment = MC These follow if they exist
Track File = TF These follow if they exist
Moving Map Parameters = MM? These follow if they exist
MM0,Yes
MMPNUM,4
MMPXY,1,260,213
MMPXY,2,4150,200
MMPXY,3,4171,3163
MMPXY,4,263,3173
MMPLL,1, -1.000536, 27.334205
MMPLL,2, 0.000806, 27.333706
MMPLL,3, 0.000153, 26.666491
MMPLL,4, -0.999891, 26.667275
MM1B,25.479878
Other Grid Setup
GRGRID,Yes,4 Km,No,16711680,255,4 Km,0,16777215,8,0,Yes,Yes,No,x
MOP,Map Open Position,0,0
IWH,Map Image Width/Height,4352,3522
