OziExplorer Map Data File Version 2.2
g29-23
g29-23.jpg
1 ,Map Code,
Pulkovo 1942 (1),WGS 84, 0.0000, 0.0000,WGS 84
Reserved 1
Reserved 2
Magnetic Variation,,,E
Map Projection,Transverse Mercator,PolyCal,No,AutoCalOnly,No,BSBUseWPX,No
Point01,xy, 372, 486,in, deg, 26, 0.0000,N, 8, 0.0000,W, grid, , , ,N
Point02,xy, 8257, 501,in, deg, 26, 0.0000,N, 7, 0.0000,W, grid, , , ,N
Point03,xy, 8261, 6389,in, deg, 25, 20.0000,N, 7, 0.0000,W, grid, , , ,N
Point04,xy, 334, 6347,in, deg, 25, 20.0000,N, 8, 0.0000,W, grid, , , ,N
Point05,xy, 4309, 3428,in, deg, 25, 40.0000,N, 7, 30.0000,W, grid, , , ,N
Point06,xy, 4316, 496,in, deg, 26, 0.0000,N, 7, 30.0000,W, grid, , , ,N
Point07,xy, 355, 3411,in, deg, 25, 40.0000,N, 8, 0.0000,W, grid, , , ,N
Point08,xy, 8260, 3434,in, deg, 25, 40.0000,N, 7, 0.0000,W, grid, , , ,N
Point09,xy, 4299, 6368,in, deg, 25, 20.0000,N, 7, 30.0000,W, grid, , , ,N
Point10,xy, , ,in, deg, , ,N, , ,W, grid, , , ,N
Point11,xy, , ,in, deg, , ,N, , ,W, grid, , , ,N
Point12,xy, , ,in, deg, , ,N, , ,W, grid, , , ,N
Point13,xy, , ,in, deg, , ,N, , ,W, grid, , , ,N
Point14,xy, , ,in, deg, , ,N, , ,W, grid, , , ,N
Point15,xy, , ,in, deg, , ,N, , ,W, grid, , , ,N
Point16,xy, , ,in, deg, , ,N, , ,W, grid, , , ,N
Point17,xy, , ,in, deg, , ,N, , ,W, grid, , , ,N
Point18,xy, , ,in, deg, , ,N, , ,W, grid, , , ,N
Point19,xy, , ,in, deg, , ,N, , ,W, grid, , , ,N
Point20,xy, , ,in, deg, , ,N, , ,W, grid, , , ,N
Point21,xy, , ,in, deg, , ,N, , ,W, grid, , , ,N
Point22,xy, , ,in, deg, , ,N, , ,W, grid, , , ,N
Point23,xy, , ,in, deg, , ,N, , ,W, grid, , , ,N
Point24,xy, , ,in, deg, , ,N, , ,W, grid, , , ,N
Point25,xy, , ,in, deg, , ,N, , ,W, grid, , , ,N
Point26,xy, , ,in, deg, , ,N, , ,W, grid, , , ,N
Point27,xy, , ,in, deg, , ,N, , ,W, grid, , , ,N
Point28,xy, , ,in, deg, , ,N, , ,W, grid, , , ,N
Point29,xy, , ,in, deg, , ,N, , ,W, grid, , , ,N
Point30,xy, , ,in, deg, , ,N, , ,W, grid, , , ,N
Projection Setup, 0.000000000, -9.000000000, 1.000000000, 59500000.00, 0.00,,,,,
Map Feature = MF ; Map Comment = MC These follow if they exist
Track File = TF These follow if they exist
Moving Map Parameters = MM? These follow if they exist
MM0,Yes
MMPNUM,4
MMPXY,1,370,485
MMPXY,2,8259,501
MMPXY,3,8263,6391
MMPXY,4,333,6348
MMPLL,1, -8.000468, 25.999059
MMPLL,2, -6.999794, 26.000143
MMPLL,3, -6.999922, 25.331760
MMPLL,4, -8.000223, 25.333476
MM1B,12.696798
Other Grid Setup
GRGRID,Yes,4 Km,No,16711680,255,4 Km,0,16777215,8,0,Yes,Yes,No,x
MOP,Map Open Position,0,0
IWH,Map Image Width/Height,8600,7176
