OziExplorer Map Data File Version 2.2
g28-06
g28-06.jpg
1 ,Map Code,
Pulkovo 1942 (1),WGS 84, 0.0000, 0.0000,WGS 84
Reserved 1
Reserved 2
Magnetic Variation,,,E
Map Projection,Transverse Mercator,PolyCal,No,AutoCalOnly,No,BSBUseWPX,No
Point01,xy, 244, 202,in, deg, 28, 0.0000,N, 13, 0.0000,W, grid, , , ,N
Point02,xy, 4121, 211,in, deg, 28, 0.0000,N, 12, 0.0000,W, grid, , , ,N
Point03,xy, 4123, 3135,in, deg, 27, 20.0000,N, 12, 0.0000,W, grid, , , ,N
Point04,xy, 225, 3124,in, deg, 27, 20.0000,N, 13, 0.0000,W, grid, , , ,N
Point05,xy, 2178, 1672,in, deg, 27, 40.0000,N, 12, 30.0000,W, grid, , , ,N
Point06,xy, 2182, 210,in, deg, 28, 0.0000,N, 12, 30.0000,W, grid, , , ,N
Point07,xy, 235, 1663,in, deg, 27, 40.0000,N, 13, 0.0000,W, grid, , , ,N
Point08,xy, 4121, 1674,in, deg, 27, 40.0000,N, 12, 0.0000,W, grid, , , ,N
Point09,xy, 2174, 3135,in, deg, 27, 20.0000,N, 12, 30.0000,W, grid, , , ,N
Point10,xy, , ,in, deg, , ,N, , ,W, grid, , , ,N
Point11,xy, , ,in, deg, , ,N, , ,W, grid, , , ,N
Point12,xy, , ,in, deg, , ,N, , ,W, grid, , , ,N
Point13,xy, , ,in, deg, , ,N, , ,W, grid, , , ,N
Point14,xy, , ,in, deg, , ,N, , ,W, grid, , , ,N
Point15,xy, , ,in, deg, , ,N, , ,W, grid, , , ,N
Point16,xy, , ,in, deg, , ,N, , ,W, grid, , , ,N
Point17,xy, , ,in, deg, , ,N, , ,W, grid, , , ,N
Point18,xy, , ,in, deg, , ,N, , ,W, grid, , , ,N
Point19,xy, , ,in, deg, , ,N, , ,W, grid, , , ,N
Point20,xy, , ,in, deg, , ,N, , ,W, grid, , , ,N
Point21,xy, , ,in, deg, , ,N, , ,W, grid, , , ,N
Point22,xy, , ,in, deg, , ,N, , ,W, grid, , , ,N
Point23,xy, , ,in, deg, , ,N, , ,W, grid, , , ,N
Point24,xy, , ,in, deg, , ,N, , ,W, grid, , , ,N
Point25,xy, , ,in, deg, , ,N, , ,W, grid, , , ,N
Point26,xy, , ,in, deg, , ,N, , ,W, grid, , , ,N
Point27,xy, , ,in, deg, , ,N, , ,W, grid, , , ,N
Point28,xy, , ,in, deg, , ,N, , ,W, grid, , , ,N
Point29,xy, , ,in, deg, , ,N, , ,W, grid, , , ,N
Point30,xy, , ,in, deg, , ,N, , ,W, grid, , , ,N
Projection Setup, 0.000000000, -15.000000000, 1.000000000, 58500000.00, 0.00,,,,,
Map Feature = MF ; Map Comment = MC These follow if they exist
Track File = TF These follow if they exist
Moving Map Parameters = MM? These follow if they exist
MM0,Yes
MMPNUM,4
MMPXY,1,242,200
MMPXY,2,4123,209
MMPXY,3,4125,3135
MMPXY,4,224,3126
MMPLL,1, -13.000710, 28.000376
MMPLL,2, -11.999201, 28.000476
MMPLL,3, -11.999586, 27.333490
MMPLL,4, -13.000151, 27.332978
MM1B,25.385258
Other Grid Setup
GRGRID,Yes,4 Km,No,16711680,255,4 Km,0,16777215,8,0,Yes,Yes,No,x
MOP,Map Open Position,0,0
IWH,Map Image Width/Height,4400,3668
