OziExplorer Map Data File Version 2.2
f39-36
f39-36.jpg
1 ,Map Code,
Pulkovo 1942 (1),WGS 84, 0.0000, 0.0000,WGS 84
Reserved 1
Reserved 2
Magnetic Variation,,,E
Map Projection,Transverse Mercator,PolyCal,No,AutoCalOnly,No,BSBUseWPX,No
Point01,xy, 229, 475,in, deg, 20, 40.0000,N, 53, 0.0000,E, grid, , , ,N
Point02,xy, 6384, 529,in, deg, 20, 40.0000,N, 54, 0.0000,E, grid, , , ,N
Point03,xy, 6351, 4886,in, deg, 20, 0.0000,N, 54, 0.0000,E, grid, , , ,N
Point04,xy, 167, 4823,in, deg, 20, 0.0000,N, 53, 0.0000,E, grid, , , ,N
Point05,xy, 3285, 2682,in, deg, 20, 20.0000,N, 53, 30.0000,E, grid, , , ,N
Point06,xy, 3306, 500,in, deg, 20, 40.0000,N, 53, 30.0000,E, grid, , , ,N
Point07,xy, 199, 2648,in, deg, 20, 20.0000,N, 53, 0.0000,E, grid, , , ,N
Point08,xy, 6367, 2713,in, deg, 20, 20.0000,N, 54, 0.0000,E, grid, , , ,N
Point09,xy, 3260, 4860,in, deg, 20, 0.0000,N, 53, 30.0000,E, grid, , , ,N
Point10,xy, , ,in, deg, , ,N, , ,W, grid, , , ,N
Point11,xy, , ,in, deg, , ,N, , ,W, grid, , , ,N
Point12,xy, , ,in, deg, , ,N, , ,W, grid, , , ,N
Point13,xy, , ,in, deg, , ,N, , ,W, grid, , , ,N
Point14,xy, , ,in, deg, , ,N, , ,W, grid, , , ,N
Point15,xy, , ,in, deg, , ,N, , ,W, grid, , , ,N
Point16,xy, , ,in, deg, , ,N, , ,W, grid, , , ,N
Point17,xy, , ,in, deg, , ,N, , ,W, grid, , , ,N
Point18,xy, , ,in, deg, , ,N, , ,W, grid, , , ,N
Point19,xy, , ,in, deg, , ,N, , ,W, grid, , , ,N
Point20,xy, , ,in, deg, , ,N, , ,W, grid, , , ,N
Point21,xy, , ,in, deg, , ,N, , ,W, grid, , , ,N
Point22,xy, , ,in, deg, , ,N, , ,W, grid, , , ,N
Point23,xy, , ,in, deg, , ,N, , ,W, grid, , , ,N
Point24,xy, , ,in, deg, , ,N, , ,W, grid, , , ,N
Point25,xy, , ,in, deg, , ,N, , ,W, grid, , , ,N
Point26,xy, , ,in, deg, , ,N, , ,W, grid, , , ,N
Point27,xy, , ,in, deg, , ,N, , ,W, grid, , , ,N
Point28,xy, , ,in, deg, , ,N, , ,W, grid, , , ,N
Point29,xy, , ,in, deg, , ,N, , ,W, grid, , , ,N
Point30,xy, , ,in, deg, , ,N, , ,W, grid, , , ,N
Projection Setup, 0.000000000, 51.000000000, 1.000000000, 9500000.00, 0.00,,,,,
Map Feature = MF ; Map Comment = MC These follow if they exist
Track File = TF These follow if they exist
Moving Map Parameters = MM? These follow if they exist
MM0,Yes
MMPNUM,4
MMPXY,1,227,473
MMPXY,2,6385,527
MMPXY,3,6351,4886
MMPXY,4,167,4824
MMPLL,1, 52.999705, 20.666346
MMPLL,2, 54.000064, 20.667127
MMPLL,3, 54.000029, 20.000098
MMPLL,4, 52.999737, 20.000053
MM1B,16.928850
Other Grid Setup
GRGRID,Yes,4 Km,No,16711680,255,4 Km,0,16777215,8,0,Yes,Yes,No,x
MOP,Map Open Position,0,0
IWH,Map Image Width/Height,6732,5433
