OziExplorer Map Data File Version 2.2
f36-23
f36-23.jpg
1 ,Map Code,
Pulkovo 1942 (1),WGS 84, 0.0000, 0.0000,WGS 84
Reserved 1
Reserved 2
Magnetic Variation,,,E
Map Projection,Transverse Mercator,PolyCal,No,AutoCalOnly,No,BSBUseWPX,No
Point01,xy, 288, 197,in, deg, 22, 0.0000,N, 34, 0.0000,E, grid, , , ,N
Point02,xy, 4341, 200,in, deg, 22, 0.0000,N, 35, 0.0000,E, grid, , , ,N
Point03,xy, 4338, 3159,in, deg, 21, 20.0000,N, 35, 0.0000,E, grid, , , ,N
Point04,xy, 269, 3106,in, deg, 21, 20.0000,N, 34, 0.0000,E, grid, , , ,N
Point05,xy, 2315, 1669,in, deg, 21, 40.0000,N, 34, 30.0000,E, grid, , , ,N
Point06,xy, 2315, 198,in, deg, 22, 0.0000,N, 34, 30.0000,E, grid, , , ,N
Point07,xy, 284, 1663,in, deg, 21, 40.0000,N, 34, 0.0000,E, grid, , , ,N
Point08,xy, 4343, 1674,in, deg, 21, 40.0000,N, 35, 0.0000,E, grid, , , ,N
Point09,xy, 2304, 3137,in, deg, 21, 20.0000,N, 34, 30.0000,E, grid, , , ,N
Point10,xy, , ,in, deg, , ,N, , ,W, grid, , , ,N
Point11,xy, , ,in, deg, , ,N, , ,W, grid, , , ,N
Point12,xy, , ,in, deg, , ,N, , ,W, grid, , , ,N
Point13,xy, , ,in, deg, , ,N, , ,W, grid, , , ,N
Point14,xy, , ,in, deg, , ,N, , ,W, grid, , , ,N
Point15,xy, , ,in, deg, , ,N, , ,W, grid, , , ,N
Point16,xy, , ,in, deg, , ,N, , ,W, grid, , , ,N
Point17,xy, , ,in, deg, , ,N, , ,W, grid, , , ,N
Point18,xy, , ,in, deg, , ,N, , ,W, grid, , , ,N
Point19,xy, , ,in, deg, , ,N, , ,W, grid, , , ,N
Point20,xy, , ,in, deg, , ,N, , ,W, grid, , , ,N
Point21,xy, , ,in, deg, , ,N, , ,W, grid, , , ,N
Point22,xy, , ,in, deg, , ,N, , ,W, grid, , , ,N
Point23,xy, , ,in, deg, , ,N, , ,W, grid, , , ,N
Point24,xy, , ,in, deg, , ,N, , ,W, grid, , , ,N
Point25,xy, , ,in, deg, , ,N, , ,W, grid, , , ,N
Point26,xy, , ,in, deg, , ,N, , ,W, grid, , , ,N
Point27,xy, , ,in, deg, , ,N, , ,W, grid, , , ,N
Point28,xy, , ,in, deg, , ,N, , ,W, grid, , , ,N
Point29,xy, , ,in, deg, , ,N, , ,W, grid, , , ,N
Point30,xy, , ,in, deg, , ,N, , ,W, grid, , , ,N
Projection Setup, 0.000000000, 33.000000000, 1.000000000, 6500000.00, 0.00,,,,,
Map Feature = MF ; Map Comment = MC These follow if they exist
Track File = TF These follow if they exist
Moving Map Parameters = MM? These follow if they exist
MM0,Yes
MMPNUM,4
MMPXY,1,287,196
MMPXY,2,4343,199
MMPXY,3,4339,3159
MMPXY,4,266,3107
MMPLL,1, 33.999070, 21.997987
MMPLL,2, 35.000295, 22.002250
MMPLL,3, 34.999723, 21.330207
MMPLL,4, 33.998869, 21.336783
MM1B,25.485671
Other Grid Setup
GRGRID,Yes,4 Km,No,16711680,255,4 Km,0,16777215,8,0,Yes,Yes,No,x
MOP,Map Open Position,0,0
IWH,Map Image Width/Height,4608,3578
