OziExplorer Map Data File Version 2.2
f35-25
f35-25.jpg
1 ,Map Code,
Pulkovo 1942 (1),WGS 84, 0.0000, 0.0000,WGS 84
Reserved 1
Reserved 2
Magnetic Variation,,,E
Map Projection,Transverse Mercator,PolyCal,No,AutoCalOnly,No,BSBUseWPX,No
Point01,xy, 259, 181,in, deg, 21, 20.0000,N, 24, 0.0000,E, grid, , , ,N
Point02,xy, 4331, 206,in, deg, 21, 20.0000,N, 25, 0.0000,E, grid, , , ,N
Point03,xy, 4321, 3145,in, deg, 20, 40.0000,N, 25, 0.0000,E, grid, , , ,N
Point04,xy, 232, 3105,in, deg, 20, 40.0000,N, 24, 0.0000,E, grid, , , ,N
Point05,xy, 2288, 1663,in, deg, 21, 0.0000,N, 24, 30.0000,E, grid, , , ,N
Point06,xy, 2294, 197,in, deg, 21, 20.0000,N, 24, 30.0000,E, grid, , , ,N
Point07,xy, 247, 1649,in, deg, 21, 0.0000,N, 24, 0.0000,E, grid, , , ,N
Point08,xy, 4327, 1677,in, deg, 21, 0.0000,N, 25, 0.0000,E, grid, , , ,N
Point09,xy, 2277, 3128,in, deg, 20, 40.0000,N, 24, 30.0000,E, grid, , , ,N
Point10,xy, , ,in, deg, , ,N, , ,W, grid, , , ,N
Point11,xy, , ,in, deg, , ,N, , ,W, grid, , , ,N
Point12,xy, , ,in, deg, , ,N, , ,W, grid, , , ,N
Point13,xy, , ,in, deg, , ,N, , ,W, grid, , , ,N
Point14,xy, , ,in, deg, , ,N, , ,W, grid, , , ,N
Point15,xy, , ,in, deg, , ,N, , ,W, grid, , , ,N
Point16,xy, , ,in, deg, , ,N, , ,W, grid, , , ,N
Point17,xy, , ,in, deg, , ,N, , ,W, grid, , , ,N
Point18,xy, , ,in, deg, , ,N, , ,W, grid, , , ,N
Point19,xy, , ,in, deg, , ,N, , ,W, grid, , , ,N
Point20,xy, , ,in, deg, , ,N, , ,W, grid, , , ,N
Point21,xy, , ,in, deg, , ,N, , ,W, grid, , , ,N
Point22,xy, , ,in, deg, , ,N, , ,W, grid, , , ,N
Point23,xy, , ,in, deg, , ,N, , ,W, grid, , , ,N
Point24,xy, , ,in, deg, , ,N, , ,W, grid, , , ,N
Point25,xy, , ,in, deg, , ,N, , ,W, grid, , , ,N
Point26,xy, , ,in, deg, , ,N, , ,W, grid, , , ,N
Point27,xy, , ,in, deg, , ,N, , ,W, grid, , , ,N
Point28,xy, , ,in, deg, , ,N, , ,W, grid, , , ,N
Point29,xy, , ,in, deg, , ,N, , ,W, grid, , , ,N
Point30,xy, , ,in, deg, , ,N, , ,W, grid, , , ,N
Projection Setup, 0.000000000, 27.000000000, 1.000000000, 5500000.00, 0.00,,,,,
Map Feature = MF ; Map Comment = MC These follow if they exist
Track File = TF These follow if they exist
Moving Map Parameters = MM? These follow if they exist
MM0,Yes
MMPNUM,4
MMPXY,1,258,180
MMPXY,2,4331,206
MMPXY,3,4322,3146
MMPXY,4,232,3105
MMPLL,1, 23.999621, 21.332988
MMPLL,2, 25.000049, 21.334338
MMPLL,3, 25.000036, 20.665499
MMPLL,4, 23.999871, 20.667976
MM1B,25.491015
Other Grid Setup
GRGRID,Yes,4 Km,No,16711680,255,4 Km,0,16777215,8,0,Yes,Yes,No,x
MOP,Map Open Position,0,0
IWH,Map Image Width/Height,4608,3517
