OziExplorer Map Data File Version 2.2
f34-29
f34-29.jpg
1 ,Map Code,
Pulkovo 1942 (1),WGS 84, 0.0000, 0.0000,WGS 84
Reserved 1
Reserved 2
Magnetic Variation,,,E
Map Projection,Transverse Mercator,PolyCal,No,AutoCalOnly,No,BSBUseWPX,No
Point01,xy, 328, 238,in, deg, 21, 20.0000,N, 22, 0.0000,E, grid, , , ,N
Point02,xy, 4400, 247,in, deg, 21, 20.0000,N, 23, 0.0000,E, grid, , , ,N
Point03,xy, 4405, 3182,in, deg, 20, 40.0000,N, 23, 0.0000,E, grid, , , ,N
Point04,xy, 317, 3182,in, deg, 20, 40.0000,N, 22, 0.0000,E, grid, , , ,N
Point05,xy, 2363, 1712,in, deg, 21, 0.0000,N, 22, 30.0000,E, grid, , , ,N
Point06,xy, 2365, 242,in, deg, 21, 20.0000,N, 22, 30.0000,E, grid, , , ,N
Point07,xy, 322, 1704,in, deg, 21, 0.0000,N, 22, 0.0000,E, grid, , , ,N
Point08,xy, 4401, 1713,in, deg, 21, 0.0000,N, 23, 0.0000,E, grid, , , ,N
Point09,xy, 2360, 3184,in, deg, 20, 40.0000,N, 22, 30.0000,E, grid, , , ,N
Point10,xy, , ,in, deg, , ,N, , ,W, grid, , , ,N
Point11,xy, , ,in, deg, , ,N, , ,W, grid, , , ,N
Point12,xy, , ,in, deg, , ,N, , ,W, grid, , , ,N
Point13,xy, , ,in, deg, , ,N, , ,W, grid, , , ,N
Point14,xy, , ,in, deg, , ,N, , ,W, grid, , , ,N
Point15,xy, , ,in, deg, , ,N, , ,W, grid, , , ,N
Point16,xy, , ,in, deg, , ,N, , ,W, grid, , , ,N
Point17,xy, , ,in, deg, , ,N, , ,W, grid, , , ,N
Point18,xy, , ,in, deg, , ,N, , ,W, grid, , , ,N
Point19,xy, , ,in, deg, , ,N, , ,W, grid, , , ,N
Point20,xy, , ,in, deg, , ,N, , ,W, grid, , , ,N
Point21,xy, , ,in, deg, , ,N, , ,W, grid, , , ,N
Point22,xy, , ,in, deg, , ,N, , ,W, grid, , , ,N
Point23,xy, , ,in, deg, , ,N, , ,W, grid, , , ,N
Point24,xy, , ,in, deg, , ,N, , ,W, grid, , , ,N
Point25,xy, , ,in, deg, , ,N, , ,W, grid, , , ,N
Point26,xy, , ,in, deg, , ,N, , ,W, grid, , , ,N
Point27,xy, , ,in, deg, , ,N, , ,W, grid, , , ,N
Point28,xy, , ,in, deg, , ,N, , ,W, grid, , , ,N
Point29,xy, , ,in, deg, , ,N, , ,W, grid, , , ,N
Point30,xy, , ,in, deg, , ,N, , ,W, grid, , , ,N
Projection Setup, 0.000000000, 21.000000000, 1.000000000, 4500000.00, 0.00,,,,,
Map Feature = MF ; Map Comment = MC These follow if they exist
Track File = TF These follow if they exist
Moving Map Parameters = MM? These follow if they exist
MM0,Yes
MMPNUM,4
MMPXY,1,328,237
MMPXY,2,4401,246
MMPXY,3,4406,3182
MMPXY,4,316,3183
MMPLL,1, 21.999776, 21.333467
MMPLL,2, 23.000369, 21.332649
MMPLL,3, 23.000273, 20.667107
MMPLL,4, 21.999961, 20.665385
MM1B,25.481366
Other Grid Setup
GRGRID,Yes,4 Km,No,16711680,255,4 Km,0,16777215,8,0,Yes,Yes,No,x
MOP,Map Open Position,0,0
IWH,Map Image Width/Height,4608,3512
