OziExplorer Map Data File Version 2.2
f32-13e
f32-13e.jpg
1 ,Map Code,
Pulkovo 1942 (1),WGS 84, 0.0000, 0.0000,WGS 84
Reserved 1
Reserved 2
Magnetic Variation,,,E
Map Projection,Transverse Mercator,PolyCal,No,AutoCalOnly,No,BSBUseWPX,No
Point01,xy, 227, 315,in, deg, 22, 40.0000,N, 6, 0.0000,E, grid, , , ,N
Point02,xy, 6315, 333,in, deg, 22, 40.0000,N, 7, 0.0000,E, grid, , , ,N
Point03,xy, 6320, 4708,in, deg, 22, 0.0000,N, 7, 0.0000,E, grid, , , ,N
Point04,xy, 208, 4692,in, deg, 22, 0.0000,N, 6, 0.0000,E, grid, , , ,N
Point05,xy, 3268, 2513,in, deg, 22, 20.0000,N, 6, 30.0000,E, grid, , , ,N
Point06,xy, 3272, 325,in, deg, 22, 40.0000,N, 6, 30.0000,E, grid, , , ,N
Point07,xy, 218, 2503,in, deg, 22, 20.0000,N, 6, 0.0000,E, grid, , , ,N
Point08,xy, 6317, 2522,in, deg, 22, 20.0000,N, 7, 0.0000,E, grid, , , ,N
Point09,xy, 3265, 4710,in, deg, 22, 0.0000,N, 6, 30.0000,E, grid, , , ,N
Point10,xy, , ,in, deg, , ,N, , ,W, grid, , , ,N
Point11,xy, , ,in, deg, , ,N, , ,W, grid, , , ,N
Point12,xy, , ,in, deg, , ,N, , ,W, grid, , , ,N
Point13,xy, , ,in, deg, , ,N, , ,W, grid, , , ,N
Point14,xy, , ,in, deg, , ,N, , ,W, grid, , , ,N
Point15,xy, , ,in, deg, , ,N, , ,W, grid, , , ,N
Point16,xy, , ,in, deg, , ,N, , ,W, grid, , , ,N
Point17,xy, , ,in, deg, , ,N, , ,W, grid, , , ,N
Point18,xy, , ,in, deg, , ,N, , ,W, grid, , , ,N
Point19,xy, , ,in, deg, , ,N, , ,W, grid, , , ,N
Point20,xy, , ,in, deg, , ,N, , ,W, grid, , , ,N
Point21,xy, , ,in, deg, , ,N, , ,W, grid, , , ,N
Point22,xy, , ,in, deg, , ,N, , ,W, grid, , , ,N
Point23,xy, , ,in, deg, , ,N, , ,W, grid, , , ,N
Point24,xy, , ,in, deg, , ,N, , ,W, grid, , , ,N
Point25,xy, , ,in, deg, , ,N, , ,W, grid, , , ,N
Point26,xy, , ,in, deg, , ,N, , ,W, grid, , , ,N
Point27,xy, , ,in, deg, , ,N, , ,W, grid, , , ,N
Point28,xy, , ,in, deg, , ,N, , ,W, grid, , , ,N
Point29,xy, , ,in, deg, , ,N, , ,W, grid, , , ,N
Point30,xy, , ,in, deg, , ,N, , ,W, grid, , , ,N
Projection Setup, 0.000000000, 9.000000000, 1.000000000, 2500000.00, 0.00,,,,,
Map Feature = MF ; Map Comment = MC These follow if they exist
Track File = TF These follow if they exist
Moving Map Parameters = MM? These follow if they exist
MM0,Yes
MMPNUM,4
MMPXY,1,225,313
MMPXY,2,6316,332
MMPXY,3,6322,4711
MMPXY,4,207,4693
MMPLL,1, 5.999401, 22.666616
MMPLL,2, 7.000369, 22.666628
MMPLL,3, 7.000118, 21.999755
MMPLL,4, 5.999980, 22.000018
MM1B,16.895046
Other Grid Setup
GRGRID,Yes,4 Km,No,16711680,255,4 Km,0,16777215,8,0,Yes,Yes,No,x
MOP,Map Open Position,0,0
IWH,Map Image Width/Height,6559,4943
