OziExplorer Map Data File Version 2.2
f32-07e
f32-07e.jpg
1 ,Map Code,
Pulkovo 1942 (1),WGS 84, 0.0000, 0.0000,WGS 84
Reserved 1
Reserved 2
Magnetic Variation,,,E
Map Projection,Transverse Mercator,PolyCal,No,AutoCalOnly,No,BSBUseWPX,No
Point01,xy, 224, 244,in, deg, 23, 20.0000,N, 6, 0.0000,E, grid, , , ,N
Point02,xy, 6277, 253,in, deg, 23, 20.0000,N, 7, 0.0000,E, grid, , , ,N
Point03,xy, 6298, 4629,in, deg, 22, 40.0000,N, 7, 0.0000,E, grid, , , ,N
Point04,xy, 216, 4620,in, deg, 22, 40.0000,N, 6, 0.0000,E, grid, , , ,N
Point05,xy, 3252, 2440,in, deg, 23, 0.0000,N, 6, 30.0000,E, grid, , , ,N
Point06,xy, 3249, 250,in, deg, 23, 20.0000,N, 6, 30.0000,E, grid, , , ,N
Point07,xy, 222, 2432,in, deg, 23, 0.0000,N, 6, 0.0000,E, grid, , , ,N
Point08,xy, 6285, 2443,in, deg, 23, 0.0000,N, 7, 0.0000,E, grid, , , ,N
Point09,xy, 3256, 4634,in, deg, 22, 40.0000,N, 6, 30.0000,E, grid, , , ,N
Point10,xy, , ,in, deg, , ,N, , ,W, grid, , , ,N
Point11,xy, , ,in, deg, , ,N, , ,W, grid, , , ,N
Point12,xy, , ,in, deg, , ,N, , ,W, grid, , , ,N
Point13,xy, , ,in, deg, , ,N, , ,W, grid, , , ,N
Point14,xy, , ,in, deg, , ,N, , ,W, grid, , , ,N
Point15,xy, , ,in, deg, , ,N, , ,W, grid, , , ,N
Point16,xy, , ,in, deg, , ,N, , ,W, grid, , , ,N
Point17,xy, , ,in, deg, , ,N, , ,W, grid, , , ,N
Point18,xy, , ,in, deg, , ,N, , ,W, grid, , , ,N
Point19,xy, , ,in, deg, , ,N, , ,W, grid, , , ,N
Point20,xy, , ,in, deg, , ,N, , ,W, grid, , , ,N
Point21,xy, , ,in, deg, , ,N, , ,W, grid, , , ,N
Point22,xy, , ,in, deg, , ,N, , ,W, grid, , , ,N
Point23,xy, , ,in, deg, , ,N, , ,W, grid, , , ,N
Point24,xy, , ,in, deg, , ,N, , ,W, grid, , , ,N
Point25,xy, , ,in, deg, , ,N, , ,W, grid, , , ,N
Point26,xy, , ,in, deg, , ,N, , ,W, grid, , , ,N
Point27,xy, , ,in, deg, , ,N, , ,W, grid, , , ,N
Point28,xy, , ,in, deg, , ,N, , ,W, grid, , , ,N
Point29,xy, , ,in, deg, , ,N, , ,W, grid, , , ,N
Point30,xy, , ,in, deg, , ,N, , ,W, grid, , , ,N
Projection Setup, 0.000000000, 9.000000000, 1.000000000, 2500000.00, 0.00,,,,,
Map Feature = MF ; Map Comment = MC These follow if they exist
Track File = TF These follow if they exist
Moving Map Parameters = MM? These follow if they exist
MM0,Yes
MMPNUM,4
MMPXY,1,223,243
MMPXY,2,6278,251
MMPXY,3,6298,4629
MMPXY,4,215,4622
MMPLL,1, 5.999788, 23.333135
MMPLL,2, 7.000442, 23.333602
MMPLL,3, 7.000180, 22.666830
MMPLL,4, 5.999831, 22.666636
MM1B,16.906416
Other Grid Setup
GRGRID,Yes,4 Km,No,16711680,255,4 Km,0,16777215,8,0,Yes,Yes,No,x
MOP,Map Open Position,0,0
IWH,Map Image Width/Height,6534,4868
