OziExplorer Map Data File Version 2.2
f32-01
f32-01.jpg
1 ,Map Code,
Pulkovo 1942 (1),WGS 84, 0.0000, 0.0000,WGS 84
Reserved 1
Reserved 2
Magnetic Variation,,,E
Map Projection,Transverse Mercator,PolyCal,No,AutoCalOnly,No,BSBUseWPX,No
Point01,xy, 323, 239,in, deg, 24, 0.0000,N, 6, 0.0000,E, grid, , , ,N
Point02,xy, 4313, 247,in, deg, 24, 0.0000,N, 7, 0.0000,E, grid, , , ,N
Point03,xy, 4312, 3204,in, deg, 23, 20.0000,N, 7, 0.0000,E, grid, , , ,N
Point04,xy, 301, 3167,in, deg, 23, 20.0000,N, 6, 0.0000,E, grid, , , ,N
Point05,xy, 2316, 1719,in, deg, 23, 40.0000,N, 6, 30.0000,E, grid, , , ,N
Point06,xy, 2321, 248,in, deg, 24, 0.0000,N, 6, 30.0000,E, grid, , , ,N
Point07,xy, 315, 1714,in, deg, 23, 40.0000,N, 6, 0.0000,E, grid, , , ,N
Point08,xy, 4314, 1725,in, deg, 23, 40.0000,N, 7, 0.0000,E, grid, , , ,N
Point09,xy, 2309, 3189,in, deg, 23, 20.0000,N, 6, 30.0000,E, grid, , , ,N
Point10,xy, , ,in, deg, , ,N, , ,W, grid, , , ,N
Point11,xy, , ,in, deg, , ,N, , ,W, grid, , , ,N
Point12,xy, , ,in, deg, , ,N, , ,W, grid, , , ,N
Point13,xy, , ,in, deg, , ,N, , ,W, grid, , , ,N
Point14,xy, , ,in, deg, , ,N, , ,W, grid, , , ,N
Point15,xy, , ,in, deg, , ,N, , ,W, grid, , , ,N
Point16,xy, , ,in, deg, , ,N, , ,W, grid, , , ,N
Point17,xy, , ,in, deg, , ,N, , ,W, grid, , , ,N
Point18,xy, , ,in, deg, , ,N, , ,W, grid, , , ,N
Point19,xy, , ,in, deg, , ,N, , ,W, grid, , , ,N
Point20,xy, , ,in, deg, , ,N, , ,W, grid, , , ,N
Point21,xy, , ,in, deg, , ,N, , ,W, grid, , , ,N
Point22,xy, , ,in, deg, , ,N, , ,W, grid, , , ,N
Point23,xy, , ,in, deg, , ,N, , ,W, grid, , , ,N
Point24,xy, , ,in, deg, , ,N, , ,W, grid, , , ,N
Point25,xy, , ,in, deg, , ,N, , ,W, grid, , , ,N
Point26,xy, , ,in, deg, , ,N, , ,W, grid, , , ,N
Point27,xy, , ,in, deg, , ,N, , ,W, grid, , , ,N
Point28,xy, , ,in, deg, , ,N, , ,W, grid, , , ,N
Point29,xy, , ,in, deg, , ,N, , ,W, grid, , , ,N
Point30,xy, , ,in, deg, , ,N, , ,W, grid, , , ,N
Projection Setup, 0.000000000, 9.000000000, 1.000000000, 2500000.00, 0.00,,,,,
Map Feature = MF ; Map Comment = MC These follow if they exist
Track File = TF These follow if they exist
Moving Map Parameters = MM? These follow if they exist
MM0,Yes
MMPNUM,4
MMPXY,1,321,237
MMPXY,2,4314,246
MMPXY,3,4314,3205
MMPXY,4,300,3169
MMPLL,1, 5.999088, 23.999514
MMPLL,2, 6.999880, 24.001921
MMPLL,3, 7.000258, 23.331202
MMPLL,4, 5.999279, 23.335323
MM1B,25.511344
Other Grid Setup
GRGRID,Yes,4 Km,No,16711680,255,4 Km,0,16777215,8,0,Yes,Yes,No,x
MOP,Map Open Position,0,0
IWH,Map Image Width/Height,4608,3547
