OziExplorer Map Data File Version 2.2
f31-12
f31-12.jpg
1 ,Map Code,
Pulkovo 1942 (1),WGS 84, 0.0000, 0.0000,WGS 84
Reserved 1
Reserved 2
Magnetic Variation,,,E
Map Projection,Transverse Mercator,PolyCal,No,AutoCalOnly,No,BSBUseWPX,No
Point01,xy, 419, 195,in, deg, 23, 20.0000,N, 5, 0.0000,E, grid, , , ,N
Point02,xy, 4433, 187,in, deg, 23, 20.0000,N, 6, 0.0000,E, grid, , , ,N
Point03,xy, 4445, 3130,in, deg, 22, 40.0000,N, 6, 0.0000,E, grid, , , ,N
Point04,xy, 409, 3126,in, deg, 22, 40.0000,N, 5, 0.0000,E, grid, , , ,N
Point05,xy, 2428, 1659,in, deg, 23, 0.0000,N, 5, 30.0000,E, grid, , , ,N
Point06,xy, 2425, 193,in, deg, 23, 20.0000,N, 5, 30.0000,E, grid, , , ,N
Point07,xy, 412, 1660,in, deg, 23, 0.0000,N, 5, 0.0000,E, grid, , , ,N
Point08,xy, 4439, 1660,in, deg, 23, 0.0000,N, 6, 0.0000,E, grid, , , ,N
Point09,xy, 2430, 3132,in, deg, 22, 40.0000,N, 5, 30.0000,E, grid, , , ,N
Point10,xy, , ,in, deg, , ,N, , ,W, grid, , , ,N
Point11,xy, , ,in, deg, , ,N, , ,W, grid, , , ,N
Point12,xy, , ,in, deg, , ,N, , ,W, grid, , , ,N
Point13,xy, , ,in, deg, , ,N, , ,W, grid, , , ,N
Point14,xy, , ,in, deg, , ,N, , ,W, grid, , , ,N
Point15,xy, , ,in, deg, , ,N, , ,W, grid, , , ,N
Point16,xy, , ,in, deg, , ,N, , ,W, grid, , , ,N
Point17,xy, , ,in, deg, , ,N, , ,W, grid, , , ,N
Point18,xy, , ,in, deg, , ,N, , ,W, grid, , , ,N
Point19,xy, , ,in, deg, , ,N, , ,W, grid, , , ,N
Point20,xy, , ,in, deg, , ,N, , ,W, grid, , , ,N
Point21,xy, , ,in, deg, , ,N, , ,W, grid, , , ,N
Point22,xy, , ,in, deg, , ,N, , ,W, grid, , , ,N
Point23,xy, , ,in, deg, , ,N, , ,W, grid, , , ,N
Point24,xy, , ,in, deg, , ,N, , ,W, grid, , , ,N
Point25,xy, , ,in, deg, , ,N, , ,W, grid, , , ,N
Point26,xy, , ,in, deg, , ,N, , ,W, grid, , , ,N
Point27,xy, , ,in, deg, , ,N, , ,W, grid, , , ,N
Point28,xy, , ,in, deg, , ,N, , ,W, grid, , , ,N
Point29,xy, , ,in, deg, , ,N, , ,W, grid, , , ,N
Point30,xy, , ,in, deg, , ,N, , ,W, grid, , , ,N
Projection Setup, 0.000000000, 3.000000000, 1.000000000, 1500000.00, 0.00,,,,,
Map Feature = MF ; Map Comment = MC These follow if they exist
Track File = TF These follow if they exist
Moving Map Parameters = MM? These follow if they exist
MM0,Yes
MMPNUM,4
MMPXY,1,417,193
MMPXY,2,4434,187
MMPXY,3,4447,3130
MMPXY,4,408,3127
MMPLL,1, 4.999832, 23.332957
MMPLL,2, 6.000147, 23.333802
MMPLL,3, 6.000329, 22.666146
MMPLL,4, 4.999475, 22.666911
MM1B,25.474482
Other Grid Setup
GRGRID,Yes,4 Km,No,16711680,255,4 Km,0,16777215,8,0,Yes,Yes,No,x
MOP,Map Open Position,0,0
IWH,Map Image Width/Height,4608,3565
