OziExplorer Map Data File Version 2.2
f28-12
f28-12.jpg
1 ,Map Code,
Pulkovo 1942 (1),WGS 84, 0.0000, 0.0000,WGS 84
Reserved 1
Reserved 2
Magnetic Variation,,,E
Map Projection,Transverse Mercator,PolyCal,No,AutoCalOnly,No,BSBUseWPX,No
Point01,xy, 396, 493,in, deg, 23, 20.0000,N, 13, 0.0000,W, grid, , , ,N
Point02,xy, 8450, 453,in, deg, 23, 20.0000,N, 12, 0.0000,W, grid, , , ,N
Point03,xy, 8505, 6313,in, deg, 22, 40.0000,N, 12, 0.0000,W, grid, , , ,N
Point04,xy, 417, 6368,in, deg, 22, 40.0000,N, 13, 0.0000,W, grid, , , ,N
Point05,xy, 4440, 3399,in, deg, 23, 0.0000,N, 12, 30.0000,W, grid, , , ,N
Point06,xy, 4422, 477,in, deg, 23, 20.0000,N, 12, 30.0000,W, grid, , , ,N
Point07,xy, 402, 3422,in, deg, 23, 0.0000,N, 13, 0.0000,W, grid, , , ,N
Point08,xy, 8478, 3365,in, deg, 23, 0.0000,N, 12, 0.0000,W, grid, , , ,N
Point09,xy, 4459, 6336,in, deg, 22, 40.0000,N, 12, 30.0000,W, grid, , , ,N
Point10,xy, , ,in, deg, , ,N, , ,W, grid, , , ,N
Point11,xy, , ,in, deg, , ,N, , ,W, grid, , , ,N
Point12,xy, , ,in, deg, , ,N, , ,W, grid, , , ,N
Point13,xy, , ,in, deg, , ,N, , ,W, grid, , , ,N
Point14,xy, , ,in, deg, , ,N, , ,W, grid, , , ,N
Point15,xy, , ,in, deg, , ,N, , ,W, grid, , , ,N
Point16,xy, , ,in, deg, , ,N, , ,W, grid, , , ,N
Point17,xy, , ,in, deg, , ,N, , ,W, grid, , , ,N
Point18,xy, , ,in, deg, , ,N, , ,W, grid, , , ,N
Point19,xy, , ,in, deg, , ,N, , ,W, grid, , , ,N
Point20,xy, , ,in, deg, , ,N, , ,W, grid, , , ,N
Point21,xy, , ,in, deg, , ,N, , ,W, grid, , , ,N
Point22,xy, , ,in, deg, , ,N, , ,W, grid, , , ,N
Point23,xy, , ,in, deg, , ,N, , ,W, grid, , , ,N
Point24,xy, , ,in, deg, , ,N, , ,W, grid, , , ,N
Point25,xy, , ,in, deg, , ,N, , ,W, grid, , , ,N
Point26,xy, , ,in, deg, , ,N, , ,W, grid, , , ,N
Point27,xy, , ,in, deg, , ,N, , ,W, grid, , , ,N
Point28,xy, , ,in, deg, , ,N, , ,W, grid, , , ,N
Point29,xy, , ,in, deg, , ,N, , ,W, grid, , , ,N
Point30,xy, , ,in, deg, , ,N, , ,W, grid, , , ,N
Projection Setup, 0.000000000, -15.000000000, 1.000000000, 58500000.00, 0.00,,,,,
Map Feature = MF ; Map Comment = MC These follow if they exist
Track File = TF These follow if they exist
Moving Map Parameters = MM? These follow if they exist
MM0,Yes
MMPNUM,4
MMPXY,1,394,492
MMPXY,2,8452,451
MMPXY,3,8507,6314
MMPXY,4,416,6369
MMPLL,1, -13.000233, 23.333610
MMPLL,2, -11.999593, 23.332303
MMPLL,3, -11.999904, 22.666036
MMPLL,4, -12.999718, 22.665342
MM1B,12.704363
Other Grid Setup
GRGRID,Yes,4 Km,No,16711680,255,4 Km,0,16777215,8,0,Yes,Yes,No,x
MOP,Map Open Position,0,0
IWH,Map Image Width/Height,8800,7224
