OziExplorer Map Data File Version 2.2
e40-26
e40-26.jpg
1 ,Map Code,
Pulkovo 1942 (1),WGS 84, 0.0000, 0.0000,WGS 84
Reserved 1
Reserved 2
Magnetic Variation,,,E
Map Projection,Transverse Mercator,PolyCal,No,AutoCalOnly,No,BSBUseWPX,No
Point01,xy, 144, 266,in, deg, 17, 20.0000,N, 55, 0.0000,E, grid, , , ,N
Point02,xy, 6434, 315,in, deg, 17, 20.0000,N, 56, 0.0000,E, grid, , , ,N
Point03,xy, 6419, 4684,in, deg, 16, 40.0000,N, 56, 0.0000,E, grid, , , ,N
Point04,xy, 108, 4635,in, deg, 16, 40.0000,N, 55, 0.0000,E, grid, , , ,N
Point05,xy, 3275, 2477,in, deg, 17, 0.0000,N, 55, 30.0000,E, grid, , , ,N
Point06,xy, 3290, 287,in, deg, 17, 20.0000,N, 55, 30.0000,E, grid, , , ,N
Point07,xy, 127, 2452,in, deg, 17, 0.0000,N, 55, 0.0000,E, grid, , , ,N
Point08,xy, 6425, 2499,in, deg, 17, 0.0000,N, 56, 0.0000,E, grid, , , ,N
Point09,xy, 3260, 4667,in, deg, 16, 40.0000,N, 55, 30.0000,E, grid, , , ,N
Point10,xy, , ,in, deg, , ,N, , ,W, grid, , , ,N
Point11,xy, , ,in, deg, , ,N, , ,W, grid, , , ,N
Point12,xy, , ,in, deg, , ,N, , ,W, grid, , , ,N
Point13,xy, , ,in, deg, , ,N, , ,W, grid, , , ,N
Point14,xy, , ,in, deg, , ,N, , ,W, grid, , , ,N
Point15,xy, , ,in, deg, , ,N, , ,W, grid, , , ,N
Point16,xy, , ,in, deg, , ,N, , ,W, grid, , , ,N
Point17,xy, , ,in, deg, , ,N, , ,W, grid, , , ,N
Point18,xy, , ,in, deg, , ,N, , ,W, grid, , , ,N
Point19,xy, , ,in, deg, , ,N, , ,W, grid, , , ,N
Point20,xy, , ,in, deg, , ,N, , ,W, grid, , , ,N
Point21,xy, , ,in, deg, , ,N, , ,W, grid, , , ,N
Point22,xy, , ,in, deg, , ,N, , ,W, grid, , , ,N
Point23,xy, , ,in, deg, , ,N, , ,W, grid, , , ,N
Point24,xy, , ,in, deg, , ,N, , ,W, grid, , , ,N
Point25,xy, , ,in, deg, , ,N, , ,W, grid, , , ,N
Point26,xy, , ,in, deg, , ,N, , ,W, grid, , , ,N
Point27,xy, , ,in, deg, , ,N, , ,W, grid, , , ,N
Point28,xy, , ,in, deg, , ,N, , ,W, grid, , , ,N
Point29,xy, , ,in, deg, , ,N, , ,W, grid, , , ,N
Point30,xy, , ,in, deg, , ,N, , ,W, grid, , , ,N
Projection Setup, 0.000000000, 57.000000000, 1.000000000, 10500000.00, 0.00,,,,,
Map Feature = MF ; Map Comment = MC These follow if they exist
Track File = TF These follow if they exist
Moving Map Parameters = MM? These follow if they exist
MM0,Yes
MMPNUM,4
MMPXY,1,144,265
MMPXY,2,6435,314
MMPXY,3,6419,4686
MMPXY,4,108,4636
MMPLL,1, 54.999845, 17.333101
MMPLL,2, 56.000244, 17.333129
MMPLL,3, 56.000220, 16.666443
MMPLL,4, 55.000183, 16.666825
MM1B,16.901947
Other Grid Setup
GRGRID,Yes,4 Km,No,16711680,255,4 Km,0,16777215,8,0,Yes,Yes,No,x
MOP,Map Open Position,0,0
IWH,Map Image Width/Height,6620,5017
