OziExplorer Map Data File Version 2.2
e39-36
e39-36.jpg
1 ,Map Code,
Pulkovo 1942 (1),WGS 84, 0.0000, 0.0000,WGS 84
Reserved 1
Reserved 2
Magnetic Variation,,,E
Map Projection,Transverse Mercator,PolyCal,No,AutoCalOnly,No,BSBUseWPX,No
Point01,xy, 168, 276,in, deg, 16, 40.0000,N, 53, 0.0000,E, grid, , , ,N
Point02,xy, 6490, 317,in, deg, 16, 40.0000,N, 54, 0.0000,E, grid, , , ,N
Point03,xy, 6474, 4689,in, deg, 16, 0.0000,N, 54, 0.0000,E, grid, , , ,N
Point04,xy, 140, 4650,in, deg, 16, 0.0000,N, 53, 0.0000,E, grid, , , ,N
Point05,xy, 3317, 2486,in, deg, 16, 20.0000,N, 53, 30.0000,E, grid, , , ,N
Point06,xy, 3323, 294,in, deg, 16, 40.0000,N, 53, 30.0000,E, grid, , , ,N
Point07,xy, 154, 2463,in, deg, 16, 20.0000,N, 53, 0.0000,E, grid, , , ,N
Point08,xy, 6481, 2502,in, deg, 16, 20.0000,N, 54, 0.0000,E, grid, , , ,N
Point09,xy, 3309, 4681,in, deg, 16, 0.0000,N, 53, 30.0000,E, grid, , , ,N
Point10,xy, , ,in, deg, , ,N, , ,W, grid, , , ,N
Point11,xy, , ,in, deg, , ,N, , ,W, grid, , , ,N
Point12,xy, , ,in, deg, , ,N, , ,W, grid, , , ,N
Point13,xy, , ,in, deg, , ,N, , ,W, grid, , , ,N
Point14,xy, , ,in, deg, , ,N, , ,W, grid, , , ,N
Point15,xy, , ,in, deg, , ,N, , ,W, grid, , , ,N
Point16,xy, , ,in, deg, , ,N, , ,W, grid, , , ,N
Point17,xy, , ,in, deg, , ,N, , ,W, grid, , , ,N
Point18,xy, , ,in, deg, , ,N, , ,W, grid, , , ,N
Point19,xy, , ,in, deg, , ,N, , ,W, grid, , , ,N
Point20,xy, , ,in, deg, , ,N, , ,W, grid, , , ,N
Point21,xy, , ,in, deg, , ,N, , ,W, grid, , , ,N
Point22,xy, , ,in, deg, , ,N, , ,W, grid, , , ,N
Point23,xy, , ,in, deg, , ,N, , ,W, grid, , , ,N
Point24,xy, , ,in, deg, , ,N, , ,W, grid, , , ,N
Point25,xy, , ,in, deg, , ,N, , ,W, grid, , , ,N
Point26,xy, , ,in, deg, , ,N, , ,W, grid, , , ,N
Point27,xy, , ,in, deg, , ,N, , ,W, grid, , , ,N
Point28,xy, , ,in, deg, , ,N, , ,W, grid, , , ,N
Point29,xy, , ,in, deg, , ,N, , ,W, grid, , , ,N
Point30,xy, , ,in, deg, , ,N, , ,W, grid, , , ,N
Projection Setup, 0.000000000, 51.000000000, 1.000000000, 9500000.00, 0.00,,,,,
Map Feature = MF ; Map Comment = MC These follow if they exist
Track File = TF These follow if they exist
Moving Map Parameters = MM? These follow if they exist
MM0,Yes
MMPNUM,4
MMPXY,1,167,275
MMPXY,2,6491,316
MMPXY,3,6475,4689
MMPXY,4,140,4650
MMPLL,1, 52.999738, 16.666669
MMPLL,2, 54.000863, 16.666226
MMPLL,3, 53.999691, 16.000518
MMPLL,4, 53.000221, 16.000174
MM1B,16.892370
Other Grid Setup
GRGRID,Yes,4 Km,No,16711680,255,4 Km,0,16777215,8,0,Yes,Yes,No,x
MOP,Map Open Position,0,0
IWH,Map Image Width/Height,6685,5007
