OziExplorer Map Data File Version 2.2
e38-36
e38-36.jpg
1 ,Map Code,
Pulkovo 1942 (1),WGS 84, 0.0000, 0.0000,WGS 84
Reserved 1
Reserved 2
Magnetic Variation,,,E
Map Projection,Transverse Mercator,PolyCal,No,AutoCalOnly,No,BSBUseWPX,No
Point01,xy, 186, 306,in, deg, 16, 40.0000,N, 47, 0.0000,E, grid, , , ,N
Point02,xy, 6525, 293,in, deg, 16, 40.0000,N, 48, 0.0000,E, grid, , , ,N
Point03,xy, 6540, 4661,in, deg, 16, 0.0000,N, 48, 0.0000,E, grid, , , ,N
Point04,xy, 179, 4673,in, deg, 16, 0.0000,N, 47, 0.0000,E, grid, , , ,N
Point05,xy, 3353, 2487,in, deg, 16, 20.0000,N, 47, 30.0000,E, grid, , , ,N
Point06,xy, 3347, 303,in, deg, 16, 40.0000,N, 47, 30.0000,E, grid, , , ,N
Point07,xy, 184, 2485,in, deg, 16, 20.0000,N, 47, 0.0000,E, grid, , , ,N
Point08,xy, 6531, 2478,in, deg, 16, 20.0000,N, 48, 0.0000,E, grid, , , ,N
Point09,xy, 3359, 4670,in, deg, 16, 0.0000,N, 47, 30.0000,E, grid, , , ,N
Point10,xy, , ,in, deg, , ,N, , ,W, grid, , , ,N
Point11,xy, , ,in, deg, , ,N, , ,W, grid, , , ,N
Point12,xy, , ,in, deg, , ,N, , ,W, grid, , , ,N
Point13,xy, , ,in, deg, , ,N, , ,W, grid, , , ,N
Point14,xy, , ,in, deg, , ,N, , ,W, grid, , , ,N
Point15,xy, , ,in, deg, , ,N, , ,W, grid, , , ,N
Point16,xy, , ,in, deg, , ,N, , ,W, grid, , , ,N
Point17,xy, , ,in, deg, , ,N, , ,W, grid, , , ,N
Point18,xy, , ,in, deg, , ,N, , ,W, grid, , , ,N
Point19,xy, , ,in, deg, , ,N, , ,W, grid, , , ,N
Point20,xy, , ,in, deg, , ,N, , ,W, grid, , , ,N
Point21,xy, , ,in, deg, , ,N, , ,W, grid, , , ,N
Point22,xy, , ,in, deg, , ,N, , ,W, grid, , , ,N
Point23,xy, , ,in, deg, , ,N, , ,W, grid, , , ,N
Point24,xy, , ,in, deg, , ,N, , ,W, grid, , , ,N
Point25,xy, , ,in, deg, , ,N, , ,W, grid, , , ,N
Point26,xy, , ,in, deg, , ,N, , ,W, grid, , , ,N
Point27,xy, , ,in, deg, , ,N, , ,W, grid, , , ,N
Point28,xy, , ,in, deg, , ,N, , ,W, grid, , , ,N
Point29,xy, , ,in, deg, , ,N, , ,W, grid, , , ,N
Point30,xy, , ,in, deg, , ,N, , ,W, grid, , , ,N
Projection Setup, 0.000000000, 45.000000000, 1.000000000, 8500000.00, 0.00,,,,,
Map Feature = MF ; Map Comment = MC These follow if they exist
Track File = TF These follow if they exist
Moving Map Parameters = MM? These follow if they exist
MM0,Yes
MMPNUM,4
MMPXY,1,185,304
MMPXY,2,6527,292
MMPXY,3,6541,4663
MMPXY,4,179,4675
MMPLL,1, 47.000210, 16.666835
MMPLL,2, 48.000812, 16.666802
MMPLL,3, 48.000266, 15.999818
MMPLL,4, 46.999913, 15.999382
MM1B,16.837659
Other Grid Setup
GRGRID,Yes,4 Km,No,16711680,255,4 Km,0,16777215,8,0,Yes,Yes,No,x
MOP,Map Open Position,0,0
IWH,Map Image Width/Height,6634,4941
