OziExplorer Map Data File Version 2.2
e36-36
e36-36.jpg
1 ,Map Code,
Pulkovo 1942 (1),WGS 84, 0.0000, 0.0000,WGS 84
Reserved 1
Reserved 2
Magnetic Variation,,,E
Map Projection,Transverse Mercator,PolyCal,No,AutoCalOnly,No,BSBUseWPX,No
Point01,xy, 214, 288,in, deg, 16, 40.0000,N, 35, 0.0000,E, grid, , , ,N
Point02,xy, 6558, 275,in, deg, 16, 40.0000,N, 36, 0.0000,E, grid, , , ,N
Point03,xy, 6573, 4645,in, deg, 16, 0.0000,N, 36, 0.0000,E, grid, , , ,N
Point04,xy, 211, 4654,in, deg, 16, 0.0000,N, 35, 0.0000,E, grid, , , ,N
Point05,xy, 3391, 2472,in, deg, 16, 20.0000,N, 35, 30.0000,E, grid, , , ,N
Point06,xy, 3386, 288,in, deg, 16, 40.0000,N, 35, 30.0000,E, grid, , , ,N
Point07,xy, 209, 2467,in, deg, 16, 20.0000,N, 35, 0.0000,E, grid, , , ,N
Point08,xy, 6566, 2463,in, deg, 16, 20.0000,N, 36, 0.0000,E, grid, , , ,N
Point09,xy, 3391, 4659,in, deg, 16, 0.0000,N, 35, 30.0000,E, grid, , , ,N
Point10,xy, , ,in, deg, , ,N, , ,W, grid, , , ,N
Point11,xy, , ,in, deg, , ,N, , ,W, grid, , , ,N
Point12,xy, , ,in, deg, , ,N, , ,W, grid, , , ,N
Point13,xy, , ,in, deg, , ,N, , ,W, grid, , , ,N
Point14,xy, , ,in, deg, , ,N, , ,W, grid, , , ,N
Point15,xy, , ,in, deg, , ,N, , ,W, grid, , , ,N
Point16,xy, , ,in, deg, , ,N, , ,W, grid, , , ,N
Point17,xy, , ,in, deg, , ,N, , ,W, grid, , , ,N
Point18,xy, , ,in, deg, , ,N, , ,W, grid, , , ,N
Point19,xy, , ,in, deg, , ,N, , ,W, grid, , , ,N
Point20,xy, , ,in, deg, , ,N, , ,W, grid, , , ,N
Point21,xy, , ,in, deg, , ,N, , ,W, grid, , , ,N
Point22,xy, , ,in, deg, , ,N, , ,W, grid, , , ,N
Point23,xy, , ,in, deg, , ,N, , ,W, grid, , , ,N
Point24,xy, , ,in, deg, , ,N, , ,W, grid, , , ,N
Point25,xy, , ,in, deg, , ,N, , ,W, grid, , , ,N
Point26,xy, , ,in, deg, , ,N, , ,W, grid, , , ,N
Point27,xy, , ,in, deg, , ,N, , ,W, grid, , , ,N
Point28,xy, , ,in, deg, , ,N, , ,W, grid, , , ,N
Point29,xy, , ,in, deg, , ,N, , ,W, grid, , , ,N
Point30,xy, , ,in, deg, , ,N, , ,W, grid, , , ,N
Projection Setup, 0.000000000, 33.000000000, 1.000000000, 6500000.00, 0.00,,,,,
Map Feature = MF ; Map Comment = MC These follow if they exist
Track File = TF These follow if they exist
Moving Map Parameters = MM? These follow if they exist
MM0,Yes
MMPNUM,4
MMPXY,1,214,286
MMPXY,2,6560,274
MMPXY,3,6574,4646
MMPXY,4,210,4655
MMPLL,1, 34.999955, 16.666843
MMPLL,2, 36.000350, 16.667117
MMPLL,3, 35.999961, 16.000235
MMPLL,4, 35.000131, 15.999951
MM1B,16.823482
Other Grid Setup
GRGRID,Yes,4 Km,No,16711680,255,4 Km,0,16777215,8,0,Yes,Yes,No,x
MOP,Map Open Position,0,0
IWH,Map Image Width/Height,6742,5001
