OziExplorer Map Data File Version 2.2
e35-36
e35-36.jpg
1 ,Map Code,
Pulkovo 1942 (1),WGS 84, 0.0000, 0.0000,WGS 84
Reserved 1
Reserved 2
Magnetic Variation,,,E
Map Projection,Transverse Mercator,PolyCal,No,AutoCalOnly,No,BSBUseWPX,No
Point01,xy, 197, 322,in, deg, 16, 40.0000,N, 29, 0.0000,E, grid, , , ,N
Point02,xy, 6513, 330,in, deg, 16, 40.0000,N, 30, 0.0000,E, grid, , , ,N
Point03,xy, 6522, 4708,in, deg, 16, 0.0000,N, 30, 0.0000,E, grid, , , ,N
Point04,xy, 185, 4697,in, deg, 16, 0.0000,N, 29, 0.0000,E, grid, , , ,N
Point05,xy, 3352, 2518,in, deg, 16, 20.0000,N, 29, 30.0000,E, grid, , , ,N
Point06,xy, 3353, 325,in, deg, 16, 40.0000,N, 29, 30.0000,E, grid, , , ,N
Point07,xy, 191, 2510,in, deg, 16, 20.0000,N, 29, 0.0000,E, grid, , , ,N
Point08,xy, 6517, 2517,in, deg, 16, 20.0000,N, 30, 0.0000,E, grid, , , ,N
Point09,xy, 3352, 4709,in, deg, 16, 0.0000,N, 29, 30.0000,E, grid, , , ,N
Point10,xy, , ,in, deg, , ,N, , ,W, grid, , , ,N
Point11,xy, , ,in, deg, , ,N, , ,W, grid, , , ,N
Point12,xy, , ,in, deg, , ,N, , ,W, grid, , , ,N
Point13,xy, , ,in, deg, , ,N, , ,W, grid, , , ,N
Point14,xy, , ,in, deg, , ,N, , ,W, grid, , , ,N
Point15,xy, , ,in, deg, , ,N, , ,W, grid, , , ,N
Point16,xy, , ,in, deg, , ,N, , ,W, grid, , , ,N
Point17,xy, , ,in, deg, , ,N, , ,W, grid, , , ,N
Point18,xy, , ,in, deg, , ,N, , ,W, grid, , , ,N
Point19,xy, , ,in, deg, , ,N, , ,W, grid, , , ,N
Point20,xy, , ,in, deg, , ,N, , ,W, grid, , , ,N
Point21,xy, , ,in, deg, , ,N, , ,W, grid, , , ,N
Point22,xy, , ,in, deg, , ,N, , ,W, grid, , , ,N
Point23,xy, , ,in, deg, , ,N, , ,W, grid, , , ,N
Point24,xy, , ,in, deg, , ,N, , ,W, grid, , , ,N
Point25,xy, , ,in, deg, , ,N, , ,W, grid, , , ,N
Point26,xy, , ,in, deg, , ,N, , ,W, grid, , , ,N
Point27,xy, , ,in, deg, , ,N, , ,W, grid, , , ,N
Point28,xy, , ,in, deg, , ,N, , ,W, grid, , , ,N
Point29,xy, , ,in, deg, , ,N, , ,W, grid, , , ,N
Point30,xy, , ,in, deg, , ,N, , ,W, grid, , , ,N
Projection Setup, 0.000000000, 27.000000000, 1.000000000, 5500000.00, 0.00,,,,,
Map Feature = MF ; Map Comment = MC These follow if they exist
Track File = TF These follow if they exist
Moving Map Parameters = MM? These follow if they exist
MM0,Yes
MMPNUM,4
MMPXY,1,196,320
MMPXY,2,6514,328
MMPXY,3,6524,4709
MMPXY,4,184,4699
MMPLL,1, 28.999914, 16.666777
MMPLL,2, 30.000301, 16.666641
MMPLL,3, 30.000393, 15.999914
MMPLL,4, 28.999926, 15.999879
MM1B,16.897392
Other Grid Setup
GRGRID,Yes,4 Km,No,16711680,255,4 Km,0,16777215,8,0,Yes,Yes,No,x
MOP,Map Open Position,0,0
IWH,Map Image Width/Height,6736,5041
