OziExplorer Map Data File Version 2.2
e34-36
e34-36.jpg
1 ,Map Code,
Pulkovo 1942 (1),WGS 84, 0.0000, 0.0000,WGS 84
Reserved 1
Reserved 2
Magnetic Variation,,,E
Map Projection,Transverse Mercator,PolyCal,No,AutoCalOnly,No,BSBUseWPX,No
Point01,xy, 137, 316,in, deg, 16, 40.0000,N, 23, 0.0000,E, grid, , , ,N
Point02,xy, 6480, 315,in, deg, 16, 40.0000,N, 24, 0.0000,E, grid, , , ,N
Point03,xy, 6489, 4689,in, deg, 16, 0.0000,N, 24, 0.0000,E, grid, , , ,N
Point04,xy, 124, 4686,in, deg, 16, 0.0000,N, 23, 0.0000,E, grid, , , ,N
Point05,xy, 3308, 2506,in, deg, 16, 20.0000,N, 23, 30.0000,E, grid, , , ,N
Point06,xy, 3307, 320,in, deg, 16, 40.0000,N, 23, 30.0000,E, grid, , , ,N
Point07,xy, 130, 2500,in, deg, 16, 20.0000,N, 23, 0.0000,E, grid, , , ,N
Point08,xy, 6479, 2542,ex, deg, 16, 20.0000,N, 24, 0.0000,E, grid, , , ,N
Point09,xy, 3306, 4691,in, deg, 16, 0.0000,N, 23, 30.0000,E, grid, , , ,N
Point10,xy, , ,in, deg, , ,N, , ,W, grid, , , ,N
Point11,xy, , ,in, deg, , ,N, , ,W, grid, , , ,N
Point12,xy, , ,in, deg, , ,N, , ,W, grid, , , ,N
Point13,xy, , ,in, deg, , ,N, , ,W, grid, , , ,N
Point14,xy, , ,in, deg, , ,N, , ,W, grid, , , ,N
Point15,xy, , ,in, deg, , ,N, , ,W, grid, , , ,N
Point16,xy, , ,in, deg, , ,N, , ,W, grid, , , ,N
Point17,xy, , ,in, deg, , ,N, , ,W, grid, , , ,N
Point18,xy, , ,in, deg, , ,N, , ,W, grid, , , ,N
Point19,xy, , ,in, deg, , ,N, , ,W, grid, , , ,N
Point20,xy, , ,in, deg, , ,N, , ,W, grid, , , ,N
Point21,xy, , ,in, deg, , ,N, , ,W, grid, , , ,N
Point22,xy, , ,in, deg, , ,N, , ,W, grid, , , ,N
Point23,xy, , ,in, deg, , ,N, , ,W, grid, , , ,N
Point24,xy, , ,in, deg, , ,N, , ,W, grid, , , ,N
Point25,xy, , ,in, deg, , ,N, , ,W, grid, , , ,N
Point26,xy, , ,in, deg, , ,N, , ,W, grid, , , ,N
Point27,xy, , ,in, deg, , ,N, , ,W, grid, , , ,N
Point28,xy, , ,in, deg, , ,N, , ,W, grid, , , ,N
Point29,xy, , ,in, deg, , ,N, , ,W, grid, , , ,N
Point30,xy, , ,in, deg, , ,N, , ,W, grid, , , ,N
Projection Setup, 0.000000000, 21.000000000, 1.000000000, 4500000.00, 0.00,,,,,
Map Feature = MF ; Map Comment = MC These follow if they exist
Track File = TF These follow if they exist
Moving Map Parameters = MM? These follow if they exist
MM0,Yes
MMPNUM,4
MMPXY,1,137,314
MMPXY,2,6481,313
MMPXY,3,6491,4691
MMPXY,4,124,4686
MMPLL,1, 23.000076, 16.666927
MMPLL,2, 24.000161, 16.667058
MMPLL,3, 24.000297, 15.999669
MMPLL,4, 22.999990, 15.999981
MM1B,16.823296
Other Grid Setup
GRGRID,Yes,4 Km,No,16711680,255,4 Km,0,16777215,8,0,Yes,Yes,No,x
MOP,Map Open Position,0,0
IWH,Map Image Width/Height,6661,5016
