OziExplorer Map Data File Version 2.2
e33-36
e33-36.jpg
1 ,Map Code,
Pulkovo 1942 (1),WGS 84, 0.0000, 0.0000,WGS 84
Reserved 1
Reserved 2
Magnetic Variation,,,E
Map Projection,Transverse Mercator,PolyCal,No,AutoCalOnly,No,BSBUseWPX,No
Point01,xy, 155, 317,in, deg, 16, 40.0000,N, 17, 0.0000,E, grid, , , ,N
Point02,xy, 6493, 321,in, deg, 16, 40.0000,N, 18, 0.0000,E, grid, , , ,N
Point03,xy, 6501, 4693,in, deg, 16, 0.0000,N, 18, 0.0000,E, grid, , , ,N
Point04,xy, 138, 4686,in, deg, 16, 0.0000,N, 17, 0.0000,E, grid, , , ,N
Point05,xy, 3319, 2511,in, deg, 16, 20.0000,N, 17, 30.0000,E, grid, , , ,N
Point06,xy, 3322, 326,in, deg, 16, 40.0000,N, 17, 30.0000,E, grid, , , ,N
Point07,xy, 147, 2505,in, deg, 16, 20.0000,N, 17, 0.0000,E, grid, , , ,N
Point08,xy, 6498, 2508,in, deg, 16, 20.0000,N, 18, 0.0000,E, grid, , , ,N
Point09,xy, 3322, 4695,in, deg, 16, 0.0000,N, 17, 30.0000,E, grid, , , ,N
Point10,xy, , ,in, deg, , ,N, , ,W, grid, , , ,N
Point11,xy, , ,in, deg, , ,N, , ,W, grid, , , ,N
Point12,xy, , ,in, deg, , ,N, , ,W, grid, , , ,N
Point13,xy, , ,in, deg, , ,N, , ,W, grid, , , ,N
Point14,xy, , ,in, deg, , ,N, , ,W, grid, , , ,N
Point15,xy, , ,in, deg, , ,N, , ,W, grid, , , ,N
Point16,xy, , ,in, deg, , ,N, , ,W, grid, , , ,N
Point17,xy, , ,in, deg, , ,N, , ,W, grid, , , ,N
Point18,xy, , ,in, deg, , ,N, , ,W, grid, , , ,N
Point19,xy, , ,in, deg, , ,N, , ,W, grid, , , ,N
Point20,xy, , ,in, deg, , ,N, , ,W, grid, , , ,N
Point21,xy, , ,in, deg, , ,N, , ,W, grid, , , ,N
Point22,xy, , ,in, deg, , ,N, , ,W, grid, , , ,N
Point23,xy, , ,in, deg, , ,N, , ,W, grid, , , ,N
Point24,xy, , ,in, deg, , ,N, , ,W, grid, , , ,N
Point25,xy, , ,in, deg, , ,N, , ,W, grid, , , ,N
Point26,xy, , ,in, deg, , ,N, , ,W, grid, , , ,N
Point27,xy, , ,in, deg, , ,N, , ,W, grid, , , ,N
Point28,xy, , ,in, deg, , ,N, , ,W, grid, , , ,N
Point29,xy, , ,in, deg, , ,N, , ,W, grid, , , ,N
Point30,xy, , ,in, deg, , ,N, , ,W, grid, , , ,N
Projection Setup, 0.000000000, 15.000000000, 1.000000000, 3500000.00, 0.00,,,,,
Map Feature = MF ; Map Comment = MC These follow if they exist
Track File = TF These follow if they exist
Moving Map Parameters = MM? These follow if they exist
MM0,Yes
MMPNUM,4
MMPXY,1,154,316
MMPXY,2,6495,319
MMPXY,3,6502,4693
MMPXY,4,137,4688
MMPLL,1, 17.000103, 16.667125
MMPLL,2, 18.000286, 16.667141
MMPLL,3, 18.000162, 16.000109
MMPLL,4, 16.999598, 15.999922
MM1B,16.832771
Other Grid Setup
GRGRID,Yes,4 Km,No,16711680,255,4 Km,0,16777215,8,0,Yes,Yes,No,x
MOP,Map Open Position,0,0
IWH,Map Image Width/Height,6674,5094
