OziExplorer Map Data File Version 2.2
e32-36
e32-36.jpg
1 ,Map Code,
Pulkovo 1942 (1),WGS 84, 0.0000, 0.0000,WGS 84
Reserved 1
Reserved 2
Magnetic Variation,,,E
Map Projection,Transverse Mercator,PolyCal,No,AutoCalOnly,No,BSBUseWPX,No
Point01,xy, 142, 349,in, deg, 16, 40.0000,N, 11, 0.0000,E, grid, , , ,N
Point02,xy, 6485, 351,in, deg, 16, 40.0000,N, 12, 0.0000,E, grid, , , ,N
Point03,xy, 6490, 4725,in, deg, 16, 0.0000,N, 12, 0.0000,E, grid, , , ,N
Point04,xy, 128, 4718,in, deg, 16, 0.0000,N, 11, 0.0000,E, grid, , , ,N
Point05,xy, 3312, 2535,in, deg, 16, 20.0000,N, 11, 30.0000,E, grid, , , ,N
Point06,xy, 3312, 352,in, deg, 16, 40.0000,N, 11, 30.0000,E, grid, , , ,N
Point07,xy, 136, 2535,in, deg, 16, 20.0000,N, 11, 0.0000,E, grid, , , ,N
Point08,xy, 6494, 2537,in, deg, 16, 20.0000,N, 12, 0.0000,E, grid, , , ,N
Point09,xy, 3312, 4724,in, deg, 16, 0.0000,N, 11, 30.0000,E, grid, , , ,N
Point10,xy, , ,in, deg, , ,N, , ,W, grid, , , ,N
Point11,xy, , ,in, deg, , ,N, , ,W, grid, , , ,N
Point12,xy, , ,in, deg, , ,N, , ,W, grid, , , ,N
Point13,xy, , ,in, deg, , ,N, , ,W, grid, , , ,N
Point14,xy, , ,in, deg, , ,N, , ,W, grid, , , ,N
Point15,xy, , ,in, deg, , ,N, , ,W, grid, , , ,N
Point16,xy, , ,in, deg, , ,N, , ,W, grid, , , ,N
Point17,xy, , ,in, deg, , ,N, , ,W, grid, , , ,N
Point18,xy, , ,in, deg, , ,N, , ,W, grid, , , ,N
Point19,xy, , ,in, deg, , ,N, , ,W, grid, , , ,N
Point20,xy, , ,in, deg, , ,N, , ,W, grid, , , ,N
Point21,xy, , ,in, deg, , ,N, , ,W, grid, , , ,N
Point22,xy, , ,in, deg, , ,N, , ,W, grid, , , ,N
Point23,xy, , ,in, deg, , ,N, , ,W, grid, , , ,N
Point24,xy, , ,in, deg, , ,N, , ,W, grid, , , ,N
Point25,xy, , ,in, deg, , ,N, , ,W, grid, , , ,N
Point26,xy, , ,in, deg, , ,N, , ,W, grid, , , ,N
Point27,xy, , ,in, deg, , ,N, , ,W, grid, , , ,N
Point28,xy, , ,in, deg, , ,N, , ,W, grid, , , ,N
Point29,xy, , ,in, deg, , ,N, , ,W, grid, , , ,N
Point30,xy, , ,in, deg, , ,N, , ,W, grid, , , ,N
Projection Setup, 0.000000000, 9.000000000, 1.000000000, 2500000.00, 0.00,,,,,
Map Feature = MF ; Map Comment = MC These follow if they exist
Track File = TF These follow if they exist
Moving Map Parameters = MM? These follow if they exist
MM0,Yes
MMPNUM,4
MMPXY,1,141,347
MMPXY,2,6486,350
MMPXY,3,6491,4726
MMPXY,4,127,4719
MMPLL,1, 10.999814, 16.666819
MMPLL,2, 12.000049, 16.666685
MMPLL,3, 11.999611, 15.999601
MMPLL,4, 10.999782, 15.999871
MM1B,16.823101
Other Grid Setup
GRGRID,Yes,4 Km,No,16711680,255,4 Km,0,16777215,8,0,Yes,Yes,No,x
MOP,Map Open Position,0,0
IWH,Map Image Width/Height,6701,5095
