OziExplorer Map Data File Version 2.2
e31-36
e31-36.jpg
1 ,Map Code,
Pulkovo 1942 (1),WGS 84, 0.0000, 0.0000,WGS 84
Reserved 1
Reserved 2
Magnetic Variation,,,E
Map Projection,Transverse Mercator,PolyCal,No,AutoCalOnly,No,BSBUseWPX,No
Point01,xy, 149, 320,in, deg, 16, 40.0000,N, 5, 0.0000,E, grid, , , ,N
Point02,xy, 6489, 299,in, deg, 16, 40.0000,N, 6, 0.0000,E, grid, , , ,N
Point03,xy, 6509, 4672,in, deg, 16, 0.0000,N, 6, 0.0000,E, grid, , , ,N
Point04,xy, 146, 4687,in, deg, 16, 0.0000,N, 5, 0.0000,E, grid, , , ,N
Point05,xy, 3321, 2499,in, deg, 16, 20.0000,N, 5, 30.0000,E, grid, , , ,N
Point06,xy, 3319, 313,in, deg, 16, 40.0000,N, 5, 30.0000,E, grid, , , ,N
Point07,xy, 147, 2504,in, deg, 16, 20.0000,N, 5, 0.0000,E, grid, , , ,N
Point08,xy, 6500, 2486,in, deg, 16, 20.0000,N, 6, 0.0000,E, grid, , , ,N
Point09,xy, 3328, 4686,in, deg, 16, 0.0000,N, 5, 30.0000,E, grid, , , ,N
Point10,xy, , ,in, deg, , ,N, , ,W, grid, , , ,N
Point11,xy, , ,in, deg, , ,N, , ,W, grid, , , ,N
Point12,xy, , ,in, deg, , ,N, , ,W, grid, , , ,N
Point13,xy, , ,in, deg, , ,N, , ,W, grid, , , ,N
Point14,xy, , ,in, deg, , ,N, , ,W, grid, , , ,N
Point15,xy, , ,in, deg, , ,N, , ,W, grid, , , ,N
Point16,xy, , ,in, deg, , ,N, , ,W, grid, , , ,N
Point17,xy, , ,in, deg, , ,N, , ,W, grid, , , ,N
Point18,xy, , ,in, deg, , ,N, , ,W, grid, , , ,N
Point19,xy, , ,in, deg, , ,N, , ,W, grid, , , ,N
Point20,xy, , ,in, deg, , ,N, , ,W, grid, , , ,N
Point21,xy, , ,in, deg, , ,N, , ,W, grid, , , ,N
Point22,xy, , ,in, deg, , ,N, , ,W, grid, , , ,N
Point23,xy, , ,in, deg, , ,N, , ,W, grid, , , ,N
Point24,xy, , ,in, deg, , ,N, , ,W, grid, , , ,N
Point25,xy, , ,in, deg, , ,N, , ,W, grid, , , ,N
Point26,xy, , ,in, deg, , ,N, , ,W, grid, , , ,N
Point27,xy, , ,in, deg, , ,N, , ,W, grid, , , ,N
Point28,xy, , ,in, deg, , ,N, , ,W, grid, , , ,N
Point29,xy, , ,in, deg, , ,N, , ,W, grid, , , ,N
Point30,xy, , ,in, deg, , ,N, , ,W, grid, , , ,N
Projection Setup, 0.000000000, 3.000000000, 1.000000000, 1500000.00, 0.00,,,,,
Map Feature = MF ; Map Comment = MC These follow if they exist
Track File = TF These follow if they exist
Moving Map Parameters = MM? These follow if they exist
MM0,Yes
MMPNUM,4
MMPXY,1,148,319
MMPXY,2,6490,297
MMPXY,3,6510,4673
MMPXY,4,145,4688
MMPLL,1, 4.999956, 16.666689
MMPLL,2, 6.000087, 16.667068
MMPLL,3, 6.000170, 15.999877
MMPLL,4, 4.999817, 16.000104
MM1B,16.829894
Other Grid Setup
GRGRID,Yes,4 Km,No,16711680,255,4 Km,0,16777215,8,0,Yes,Yes,No,x
MOP,Map Open Position,0,0
IWH,Map Image Width/Height,6679,5023
