OziExplorer Map Data File Version 2.2
generated by OziMapCreator (c) Gehtsoft group e31-10e
e31-10e.jpg
1 ,Map Code,
Pulkovo 1942 (1),WGS 84, 0.0000, 0.0000,WGS 84
Reserved 1
Reserved 2
Magnetic Variation, , , E
Map Projection,Transverse Mercator,PolyCal,No,AutoCalOnly,No,BSBUseWPX,No
Point01,xy,198,251,in, deg,19, 20.0000,N,4, 0.0000,E, grid,,,,N
Point02,xy,6424,251,in, deg,19, 20.0000,N,5, 0.0000,E, grid,,,,N
Point03,xy,6424,4770,in, deg,18, 40.0000,N,5, 0.0000,E, grid,,,,N
Point04,xy,198,4770,in, deg,18, 40.0000,N,4, 0.0000,E, grid,,,,N
Point05,xy,3311,2511,in, deg,19, 0.0000,N,4, 30.0000,E, grid,,,,N
Point06,xy,3311,251,in, deg,19, 20.0000,N,4, 30.0000,E, grid,,,,N
Point07,xy,198,2511,in, deg,19, 0.0000,N,4, 0.0000,E, grid,,,,N
Point08,xy,6424,2511,in, deg,19, 0.0000,N,5, 0.0000,E, grid,,,,N
Point09,xy,3311,4770,in, deg,18, 40.0000,N,4, 30.0000,E, grid,,,,N
Point10,xy,,,in, deg,,,,,,, grid,,,,
Point11,xy,,,in, deg,,,,,,, grid,,,,
Point12,xy,,,in, deg,,,,,,, grid,,,,
Point13,xy,,,in, deg,,,,,,, grid,,,,
Point14,xy,,,in, deg,,,,,,, grid,,,,
Point15,xy,,,in, deg,,,,,,, grid,,,,
Point16,xy,,,in, deg,,,,,,, grid,,,,
Point17,xy,,,in, deg,,,,,,, grid,,,,
Point18,xy,,,in, deg,,,,,,, grid,,,,
Point19,xy,,,in, deg,,,,,,, grid,,,,
Point20,xy,,,in, deg,,,,,,, grid,,,,
Point21,xy,,,in, deg,,,,,,, grid,,,,
Point22,xy,,,in, deg,,,,,,, grid,,,,
Point23,xy,,,in, deg,,,,,,, grid,,,,
Point24,xy,,,in, deg,,,,,,, grid,,,,
Point25,xy,,,in, deg,,,,,,, grid,,,,
Point26,xy,,,in, deg,,,,,,, grid,,,,
Point27,xy,,,in, deg,,,,,,, grid,,,,
Point28,xy,,,in, deg,,,,,,, grid,,,,
Point29,xy,,,in, deg,,,,,,, grid,,,,
Point30,xy,,,in, deg,,,,,,, grid,,,,
Projection Setup, 0.000000000,3.000000000 , 1.000000000, 01500000.00, 0.00,,,,,
Map Feature = MF ; Map Comment = MC These follow if they exist
Track File = TF These follow if they exist
Moving Map Parameters = MM? These follow if they exist
MM0,Yes
MMPNUM,4
MMPXY,1,198,251
MMPXY,2,6424,251
MMPXY,3,6424,4770
MMPXY,4,198,4770
MMPLL,1,4.000000,19.333333
MMPLL,2,5.000000,19.333333
MMPLL,3,5.000000,18.666667
MMPLL,4,4.000000,18.666667
MM1B,17.714058
Other Grid Setup
GRGRID,Yes,4 Km,No,16711680,255,4 Km,0,16777215,8,0,Yes,Yes,No,x
MOP,Map Open Position,0,0
IWH,Map Image Width/Height,6623,5022
