OziExplorer Map Data File Version 2.2
e31-10
e31-10.jpg
1 ,Map Code,
Pulkovo 1942 (1),WGS 84, 0.0000, 0.0000,WGS 84
Reserved 1
Reserved 2
Magnetic Variation,,,E
Map Projection,Transverse Mercator,PolyCal,No,AutoCalOnly,No,BSBUseWPX,No
Point01,xy, 197, 373,in, deg, 19, 20.0000,N, 3, 0.0000,E, grid, , , ,N
Point02,xy, 6440, 386,in, deg, 19, 20.0000,N, 4, 0.0000,E, grid, , , ,N
Point03,xy, 6444, 4750,in, deg, 18, 40.0000,N, 4, 0.0000,E, grid, , , ,N
Point04,xy, 179, 4735,in, deg, 18, 40.0000,N, 3, 0.0000,E, grid, , , ,N
Point05,xy, 3315, 2561,in, deg, 19, 0.0000,N, 3, 30.0000,E, grid, , , ,N
Point06,xy, 3319, 381,in, deg, 19, 20.0000,N, 3, 30.0000,E, grid, , , ,N
Point07,xy, 187, 2553,in, deg, 19, 0.0000,N, 3, 0.0000,E, grid, , , ,N
Point08,xy, 6444, 2568,in, deg, 19, 0.0000,N, 4, 0.0000,E, grid, , , ,N
Point09,xy, 3310, 4749,in, deg, 18, 40.0000,N, 3, 30.0000,E, grid, , , ,N
Point10,xy, , ,in, deg, , ,N, , ,W, grid, , , ,N
Point11,xy, , ,in, deg, , ,N, , ,W, grid, , , ,N
Point12,xy, , ,in, deg, , ,N, , ,W, grid, , , ,N
Point13,xy, , ,in, deg, , ,N, , ,W, grid, , , ,N
Point14,xy, , ,in, deg, , ,N, , ,W, grid, , , ,N
Point15,xy, , ,in, deg, , ,N, , ,W, grid, , , ,N
Point16,xy, , ,in, deg, , ,N, , ,W, grid, , , ,N
Point17,xy, , ,in, deg, , ,N, , ,W, grid, , , ,N
Point18,xy, , ,in, deg, , ,N, , ,W, grid, , , ,N
Point19,xy, , ,in, deg, , ,N, , ,W, grid, , , ,N
Point20,xy, , ,in, deg, , ,N, , ,W, grid, , , ,N
Point21,xy, , ,in, deg, , ,N, , ,W, grid, , , ,N
Point22,xy, , ,in, deg, , ,N, , ,W, grid, , , ,N
Point23,xy, , ,in, deg, , ,N, , ,W, grid, , , ,N
Point24,xy, , ,in, deg, , ,N, , ,W, grid, , , ,N
Point25,xy, , ,in, deg, , ,N, , ,W, grid, , , ,N
Point26,xy, , ,in, deg, , ,N, , ,W, grid, , , ,N
Point27,xy, , ,in, deg, , ,N, , ,W, grid, , , ,N
Point28,xy, , ,in, deg, , ,N, , ,W, grid, , , ,N
Point29,xy, , ,in, deg, , ,N, , ,W, grid, , , ,N
Point30,xy, , ,in, deg, , ,N, , ,W, grid, , , ,N
Projection Setup, 0.000000000, 3.000000000, 1.000000000, 1500000.00, 0.00,,,,,
Map Feature = MF ; Map Comment = MC These follow if they exist
Track File = TF These follow if they exist
Moving Map Parameters = MM? These follow if they exist
MM0,Yes
MMPNUM,4
MMPXY,1,196,372
MMPXY,2,6442,385
MMPXY,3,6445,4751
MMPXY,4,178,4738
MMPLL,1, 2.999744, 19.333169
MMPLL,2, 4.000303, 19.333324
MMPLL,3, 4.000016, 18.666510
MMPLL,4, 3.000085, 18.666257
MM1B,16.827122
Other Grid Setup
GRGRID,Yes,4 Km,No,16711680,255,4 Km,0,16777215,8,0,Yes,Yes,No,x
MOP,Map Open Position,0,0
IWH,Map Image Width/Height,6651,5082
