OziExplorer Map Data File Version 2.2
e30-36
e30-36.jpg
1 ,Map Code,
Pulkovo 1942 (1),WGS 84, 0.0000, 0.0000,WGS 84
Reserved 1
Reserved 2
Magnetic Variation,,,E
Map Projection,Transverse Mercator,PolyCal,No,AutoCalOnly,No,BSBUseWPX,No
Point01,xy, 169, 279,in, deg, 16, 40.0000,N, 1, 0.0000,W, grid, , , ,N
Point02,xy, 6511, 257,in, deg, 16, 40.0000,N, 0, 0.0000,E, grid, , , ,N
Point03,xy, 6530, 4621,in, deg, 16, 0.0000,N, 0, 0.0000,E, grid, , , ,N
Point04,xy, 168, 4638,in, deg, 16, 0.0000,N, 1, 0.0000,W, grid, , , ,N
Point05,xy, 3342, 2449,in, deg, 16, 20.0000,N, 0, 30.0000,W, grid, , , ,N
Point06,xy, 3339, 275,in, deg, 16, 40.0000,N, 0, 30.0000,W, grid, , , ,N
Point07,xy, 167, 2458,in, deg, 16, 20.0000,N, 1, 0.0000,W, grid, , , ,N
Point08,xy, 6520, 2440,in, deg, 16, 20.0000,N, 0, 0.0000,E, grid, , , ,N
Point09,xy, 3349, 4632,in, deg, 16, 0.0000,N, 0, 30.0000,W, grid, , , ,N
Point10,xy, , ,in, deg, , ,N, , ,W, grid, , , ,N
Point11,xy, , ,in, deg, , ,N, , ,W, grid, , , ,N
Point12,xy, , ,in, deg, , ,N, , ,W, grid, , , ,N
Point13,xy, , ,in, deg, , ,N, , ,W, grid, , , ,N
Point14,xy, , ,in, deg, , ,N, , ,W, grid, , , ,N
Point15,xy, , ,in, deg, , ,N, , ,W, grid, , , ,N
Point16,xy, , ,in, deg, , ,N, , ,W, grid, , , ,N
Point17,xy, , ,in, deg, , ,N, , ,W, grid, , , ,N
Point18,xy, , ,in, deg, , ,N, , ,W, grid, , , ,N
Point19,xy, , ,in, deg, , ,N, , ,W, grid, , , ,N
Point20,xy, , ,in, deg, , ,N, , ,W, grid, , , ,N
Point21,xy, , ,in, deg, , ,N, , ,W, grid, , , ,N
Point22,xy, , ,in, deg, , ,N, , ,W, grid, , , ,N
Point23,xy, , ,in, deg, , ,N, , ,W, grid, , , ,N
Point24,xy, , ,in, deg, , ,N, , ,W, grid, , , ,N
Point25,xy, , ,in, deg, , ,N, , ,W, grid, , , ,N
Point26,xy, , ,in, deg, , ,N, , ,W, grid, , , ,N
Point27,xy, , ,in, deg, , ,N, , ,W, grid, , , ,N
Point28,xy, , ,in, deg, , ,N, , ,W, grid, , , ,N
Point29,xy, , ,in, deg, , ,N, , ,W, grid, , , ,N
Point30,xy, , ,in, deg, , ,N, , ,W, grid, , , ,N
Projection Setup, 0.000000000, -3.000000000, 1.000000000, 60500000.00, 0.00,,,,,
Map Feature = MF ; Map Comment = MC These follow if they exist
Track File = TF These follow if they exist
Moving Map Parameters = MM? These follow if they exist
MM0,Yes
MMPNUM,4
MMPXY,1,167,278
MMPXY,2,6513,256
MMPXY,3,6531,4621
MMPXY,4,168,4640
MMPLL,1, -1.000246, 16.666791
MMPLL,2, 0.000463, 16.667017
MMPLL,3, 0.000126, 15.999825
MMPLL,4, -0.999860, 15.999595
MM1B,16.829037
Other Grid Setup
GRGRID,Yes,4 Km,No,16711680,255,4 Km,0,16777215,8,0,Yes,Yes,No,x
MOP,Map Open Position,0,0
IWH,Map Image Width/Height,6689,4997
