OziExplorer Map Data File Version 2.2
e29-36
e29-36.jpg
1 ,Map Code,
Pulkovo 1942 (1),WGS 84, 0.0000, 0.0000,WGS 84
Reserved 1
Reserved 2
Magnetic Variation,,,E
Map Projection,Transverse Mercator,PolyCal,No,AutoCalOnly,No,BSBUseWPX,No
Point01,xy, 151, 229,in, deg, 16, 40.0000,N, 7, 0.0000,W, grid, , , ,N
Point02,xy, 6494, 221,in, deg, 16, 40.0000,N, 6, 0.0000,W, grid, , , ,N
Point03,xy, 6505, 4593,in, deg, 16, 0.0000,N, 6, 0.0000,W, grid, , , ,N
Point04,xy, 142, 4598,in, deg, 16, 0.0000,N, 7, 0.0000,W, grid, , , ,N
Point05,xy, 3323, 2416,in, deg, 16, 20.0000,N, 6, 30.0000,W, grid, , , ,N
Point06,xy, 3322, 228,in, deg, 16, 40.0000,N, 6, 30.0000,W, grid, , , ,N
Point07,xy, 145, 2411,in, deg, 16, 20.0000,N, 7, 0.0000,W, grid, , , ,N
Point08,xy, 6501, 2408,in, deg, 16, 20.0000,N, 6, 0.0000,W, grid, , , ,N
Point09,xy, 3323, 4602,in, deg, 16, 0.0000,N, 6, 30.0000,W, grid, , , ,N
Point10,xy, , ,in, deg, , ,N, , ,W, grid, , , ,N
Point11,xy, , ,in, deg, , ,N, , ,W, grid, , , ,N
Point12,xy, , ,in, deg, , ,N, , ,W, grid, , , ,N
Point13,xy, , ,in, deg, , ,N, , ,W, grid, , , ,N
Point14,xy, , ,in, deg, , ,N, , ,W, grid, , , ,N
Point15,xy, , ,in, deg, , ,N, , ,W, grid, , , ,N
Point16,xy, , ,in, deg, , ,N, , ,W, grid, , , ,N
Point17,xy, , ,in, deg, , ,N, , ,W, grid, , , ,N
Point18,xy, , ,in, deg, , ,N, , ,W, grid, , , ,N
Point19,xy, , ,in, deg, , ,N, , ,W, grid, , , ,N
Point20,xy, , ,in, deg, , ,N, , ,W, grid, , , ,N
Point21,xy, , ,in, deg, , ,N, , ,W, grid, , , ,N
Point22,xy, , ,in, deg, , ,N, , ,W, grid, , , ,N
Point23,xy, , ,in, deg, , ,N, , ,W, grid, , , ,N
Point24,xy, , ,in, deg, , ,N, , ,W, grid, , , ,N
Point25,xy, , ,in, deg, , ,N, , ,W, grid, , , ,N
Point26,xy, , ,in, deg, , ,N, , ,W, grid, , , ,N
Point27,xy, , ,in, deg, , ,N, , ,W, grid, , , ,N
Point28,xy, , ,in, deg, , ,N, , ,W, grid, , , ,N
Point29,xy, , ,in, deg, , ,N, , ,W, grid, , , ,N
Point30,xy, , ,in, deg, , ,N, , ,W, grid, , , ,N
Projection Setup, 0.000000000, -9.000000000, 1.000000000, 59500000.00, 0.00,,,,,
Map Feature = MF ; Map Comment = MC These follow if they exist
Track File = TF These follow if they exist
Moving Map Parameters = MM? These follow if they exist
MM0,Yes
MMPNUM,4
MMPXY,1,150,227
MMPXY,2,6496,219
MMPXY,3,6506,4594
MMPXY,4,140,4599
MMPLL,1, -7.000142, 16.666826
MMPLL,2, -5.999695, 16.666998
MMPLL,3, -5.999978, 16.000065
MMPLL,4, -7.000175, 15.999882
MM1B,16.824279
Other Grid Setup
GRGRID,Yes,4 Km,No,16711680,255,4 Km,0,16777215,8,0,Yes,Yes,No,x
MOP,Map Open Position,0,0
IWH,Map Image Width/Height,6680,4931
