OziExplorer Map Data File Version 2.2
e29-17e
e29-17e.jpg
1 ,Map Code,
Pulkovo 1942 (1),WGS 84, 0.0000, 0.0000,WGS 84
Reserved 1
Reserved 2
Magnetic Variation,,,E
Map Projection,Transverse Mercator,PolyCal,No,AutoCalOnly,No,BSBUseWPX,No
Point01,xy, 165, 280,in, deg, 18, 40.0000,N, 8, 0.0000,W, grid, , , ,N
Point02,xy, 6434, 281,in, deg, 18, 40.0000,N, 7, 0.0000,W, grid, , , ,N
Point03,xy, 6442, 4656,in, deg, 18, 0.0000,N, 7, 0.0000,W, grid, , , ,N
Point04,xy, 150, 4650,in, deg, 18, 0.0000,N, 8, 0.0000,W, grid, , , ,N
Point05,xy, 3299, 2471,in, deg, 18, 20.0000,N, 7, 30.0000,W, grid, , , ,N
Point06,xy, 3303, 285,in, deg, 18, 40.0000,N, 7, 30.0000,W, grid, , , ,N
Point07,xy, 158, 2464,in, deg, 18, 20.0000,N, 8, 0.0000,W, grid, , , ,N
Point08,xy, 6439, 2470,in, deg, 18, 20.0000,N, 7, 0.0000,W, grid, , , ,N
Point09,xy, 3293, 4657,in, deg, 18, 0.0000,N, 7, 30.0000,W, grid, , , ,N
Point10,xy, , ,in, deg, , ,N, , ,W, grid, , , ,N
Point11,xy, , ,in, deg, , ,N, , ,W, grid, , , ,N
Point12,xy, , ,in, deg, , ,N, , ,W, grid, , , ,N
Point13,xy, , ,in, deg, , ,N, , ,W, grid, , , ,N
Point14,xy, , ,in, deg, , ,N, , ,W, grid, , , ,N
Point15,xy, , ,in, deg, , ,N, , ,W, grid, , , ,N
Point16,xy, , ,in, deg, , ,N, , ,W, grid, , , ,N
Point17,xy, , ,in, deg, , ,N, , ,W, grid, , , ,N
Point18,xy, , ,in, deg, , ,N, , ,W, grid, , , ,N
Point19,xy, , ,in, deg, , ,N, , ,W, grid, , , ,N
Point20,xy, , ,in, deg, , ,N, , ,W, grid, , , ,N
Point21,xy, , ,in, deg, , ,N, , ,W, grid, , , ,N
Point22,xy, , ,in, deg, , ,N, , ,W, grid, , , ,N
Point23,xy, , ,in, deg, , ,N, , ,W, grid, , , ,N
Point24,xy, , ,in, deg, , ,N, , ,W, grid, , , ,N
Point25,xy, , ,in, deg, , ,N, , ,W, grid, , , ,N
Point26,xy, , ,in, deg, , ,N, , ,W, grid, , , ,N
Point27,xy, , ,in, deg, , ,N, , ,W, grid, , , ,N
Point28,xy, , ,in, deg, , ,N, , ,W, grid, , , ,N
Point29,xy, , ,in, deg, , ,N, , ,W, grid, , , ,N
Point30,xy, , ,in, deg, , ,N, , ,W, grid, , , ,N
Projection Setup, 0.000000000, -9.000000000, 1.000000000, 59500000.00, 0.00,,,,,
Map Feature = MF ; Map Comment = MC These follow if they exist
Track File = TF These follow if they exist
Moving Map Parameters = MM? These follow if they exist
MM0,Yes
MMPNUM,4
MMPXY,1,165,279
MMPXY,2,6436,279
MMPXY,3,6442,4657
MMPXY,4,149,4651
MMPLL,1, -8.000272, 18.666647
MMPLL,2, -6.999887, 18.667169
MMPLL,3, -6.999948, 17.999785
MMPLL,4, -8.000000, 17.999899
MM1B,16.828179
Other Grid Setup
GRGRID,Yes,4 Km,No,16711680,255,4 Km,0,16777215,8,0,Yes,Yes,No,x
MOP,Map Open Position,0,0
IWH,Map Image Width/Height,6634,4963
